BEGIN:VCALENDAR
VERSION:2.0
PRODID:-//Events | FID-Recht//NONSGML Events//EN
CALSCALE:GREGORIAN
X-ORIGINAL-URL:https://events.intrecht.de/termine/
X-WR-CALDESC:Events | FID-Recht - Events
BEGIN:VEVENT
UID:20200602T0945Z-1591091115.9737-EO-599-1@172.16.200.141
STATUS:CONFIRMED
DTSTAMP:20260425T132430Z
CREATED:20251124T152153Z
LAST-MODIFIED:20251124T152153Z
DTSTART;VALUE=DATE:20260908
DTEND;VALUE=DATE:20260912
SUMMARY: Judicial Politics in an Age of Democratic Contestation (Conference
 )
DESCRIPTION: 8.-11.9.2026 / Krakau (Einreichungsfrist: 5.1.2026) https://ec
 pr.eu/GeneralConference
X-ALT-DESC;FMTTYPE=text/html: <p>8.-11.9.2026 / Krakau <strong>(Einreichung
 sfrist: 5.1.2026)</strong></p><p><a href="https://ecpr.eu/GeneralConference
 ">https://ecpr.eu/GeneralConference</a></p><p>[av_button label='iCal-Export
 ' link='./feed/eo-events' link_target='' size='small' position='center' lab
 el_display='' title_attr='' icon_select='yes' icon='ue85b' font='entypo-fon
 tello' color='custom' custom_bg='#b5123e' custom_font='#ffffff' av_uid='' i
 d='' custom_class='' admin_preview_bg='']</p>
CATEGORIES:Europäisches / Internationales Recht
LOCATION:Ausland
GEO:0.000000;0.000000
ORGANIZER;CN="ViFa-Recht":MAILTO:vifa-recht@sbb.spk-berlin.de
URL;VALUE=URI:https://events.intrecht.de/termine/termin/judicial-politics-i
 n-an-age-of-democratic-contestation-conference/
END:VEVENT
BEGIN:VTIMEZONE
TZID:Europe/Berlin
BEGIN:DAYLIGHT
TZOFFSETFROM:+0100
TZOFFSETTO:+0200
DTSTART:20260329T010000
TZNAME:CEST
END:DAYLIGHT
END:VTIMEZONE
END:VCALENDAR
