BEGIN:VCALENDAR
VERSION:2.0
PRODID:-//Events | FID-Recht//NONSGML Events//EN
CALSCALE:GREGORIAN
X-ORIGINAL-URL:https://events.intrecht.de/termine/
X-WR-CALDESC:Events | FID-Recht - Events
BEGIN:VEVENT
UID:20200617T1320Z-1592400005.6284-EO-985-1@172.16.200.141
STATUS:CONFIRMED
DTSTAMP:20260421T151905Z
CREATED:20200605T124153Z
LAST-MODIFIED:20200925T100655Z
DTSTART;VALUE=DATE:20200617
DTEND;VALUE=DATE:20200617
SUMMARY: Judging Around the World: A Lab Experiment on Country Differences 
 and Causal Determinants  (Hamburg Lecture in Law and Economics von Holger S
 pamann) (Online-Vortrag)
DESCRIPTION: 17.6.2020\, Online https://www.jura.uni-hamburg.de/forschung/i
 nstitute-forschungsstellen-und-zentren/institut-recht-oekonomik/news-und-ev
 ents/aktuelle-meldungen/2020-06-17.html
X-ALT-DESC;FMTTYPE=text/html: <p>17.6.2020\, Online</p><p><a href="https://
 www.jura.uni-hamburg.de/forschung/institute-forschungsstellen-und-zentren/i
 nstitut-recht-oekonomik/news-und-events/aktuelle-meldungen/2020-06-17.html"
 >https://www.jura.uni-hamburg.de/forschung/institute-forschungsstellen-und-
 zentren/institut-recht-oekonomik/news-und-events/aktuelle-meldungen/2020-06
 -17.html</a></p><p>[av_button label='iCal-Export' link='./feed/eo-events' l
 ink_target='' size='small' position='center' label_display='' title_attr=''
  icon_select='yes' icon='ue85b' font='entypo-fontello' color='custom' custo
 m_bg='#b5123e' custom_font='#ffffff' av_uid='' id='' custom_class='' admin_
 preview_bg='']</p>
CATEGORIES:Öffentliches Recht
LOCATION:Online
GEO:0.000000;0.000000
ORGANIZER;CN="ViFa-Recht":MAILTO:vifa-recht@sbb.spk-berlin.de
URL;VALUE=URI:https://events.intrecht.de/termine/termin/judging-around-the-
 world-a-lab-experiment-on-country-differences-and-causal-determinantshambur
 g-lecture-in-law-and-economics-von-holger-spamann-online-vortrag/
END:VEVENT
BEGIN:VTIMEZONE
TZID:Europe/Berlin
BEGIN:DAYLIGHT
TZOFFSETFROM:+0100
TZOFFSETTO:+0200
DTSTART:20200329T010000
TZNAME:CEST
END:DAYLIGHT
END:VTIMEZONE
END:VCALENDAR
