BEGIN:VCALENDAR
VERSION:2.0
PRODID:-//Events | FID-Recht//NONSGML Events//EN
CALSCALE:GREGORIAN
X-ORIGINAL-URL:https://events.intrecht.de/termine/
X-WR-CALDESC:Events | FID-Recht - Events
BEGIN:VEVENT
UID:20220211T2159Z-1644616797.8399-EO-5930-1@172.16.200.141
STATUS:CONFIRMED
DTSTAMP:20260419T150945Z
CREATED:20220207T173325Z
LAST-MODIFIED:20220207T173325Z
DTSTART;VALUE=DATE:20220714
DTEND;VALUE=DATE:20220716
SUMMARY: Journal of Law\, Finance\, and Accounting (JLFA) 2022 Conference (
 Tagung)
DESCRIPTION: 14.-15.7.2022\, Barcelona (Frist für Einreichungen: 7.3.2022) 
 Professional Announcement :: SSRN  
X-ALT-DESC;FMTTYPE=text/html: <p>14.-15.7.2022\, Barcelona (Frist für Einre
 ichungen: 7.3.2022)</p><p><a href="https://www.ssrn.com/index.cfm/en/janda/
 announcement/?id=10055">Professional Announcement :: SSRN</a></p><p> </p><p
 >[av_button label='iCal-Export' link='./feed/eo-events' link_target='' size
 ='small' position='center' label_display='' title_attr='' icon_select='yes'
  icon='ue85b' font='entypo-fontello' color='custom' custom_bg='#b5123e' cus
 tom_font='#ffffff' av_uid='' id='' custom_class='' admin_preview_bg='']</p>
CATEGORIES:Recht interdisziplinär
LOCATION:Ausland
GEO:0.000000;0.000000
ORGANIZER;CN="ViFa-Recht":MAILTO:vifa-recht@sbb.spk-berlin.de
URL;VALUE=URI:https://events.intrecht.de/termine/termin/journal-of-law-fina
 nce-and-accounting-jlfa-2022-conference-tagung/
END:VEVENT
BEGIN:VTIMEZONE
TZID:Europe/Berlin
BEGIN:DAYLIGHT
TZOFFSETFROM:+0100
TZOFFSETTO:+0200
DTSTART:20220327T010000
TZNAME:CEST
END:DAYLIGHT
END:VTIMEZONE
END:VCALENDAR
