BEGIN:VCALENDAR
VERSION:2.0
PRODID:-//Events | FID-Recht//NONSGML Events//EN
CALSCALE:GREGORIAN
X-ORIGINAL-URL:https://events.intrecht.de/termine/
X-WR-CALDESC:Events | FID-Recht - Events
BEGIN:VEVENT
UID:20201217T0021Z-1608164474.6682-EO-2597-1@172.16.200.141
STATUS:CONFIRMED
DTSTAMP:20260425T213936Z
CREATED:20201201T174053Z
LAST-MODIFIED:20201201T174053Z
DTSTART;VALUE=DATE:20201209
DTEND;VALUE=DATE:20201212
SUMMARY: Journal of Law\, Finance\, and Accounting 2020 Conference (Online-
 Tagung)
DESCRIPTION: 9.-11.12.2020\, Online https://www.unibocconi.it/wps/wcm/conne
 ct/3bcc4d5d-12e5-45b7-a8c1-46cdfc017cad/INVITO+JLFA2020+CONFERENCE+%281%29.
 pdf?MOD=AJPERES&CVID=nnW4wgi  
X-ALT-DESC;FMTTYPE=text/html: <p>9.-11.12.2020\, Online</p><p><a href="http
 s://www.unibocconi.it/wps/wcm/connect/3bcc4d5d-12e5-45b7-a8c1-46cdfc017cad/
 INVITO+JLFA2020+CONFERENCE+%281%29.pdf?MOD=AJPERES&CVID=nnW4wgi">https://ww
 w.unibocconi.it/wps/wcm/connect/3bcc4d5d-12e5-45b7-a8c1-46cdfc017cad/INVITO
 +JLFA2020+CONFERENCE+%281%29.pdf?MOD=AJPERES&CVID=nnW4wgi</a></p><p> </p><p
 >[av_button label='iCal-Export' link='./feed/eo-events' link_target='' size
 ='small' position='center' label_display='' title_attr='' icon_select='yes'
  icon='ue85b' font='entypo-fontello' color='custom' custom_bg='#b5123e' cus
 tom_font='#ffffff' av_uid='' id='' custom_class='' admin_preview_bg='']</p>
CATEGORIES:Öffentliches Recht,Zivilrecht
LOCATION:Online
GEO:0.000000;0.000000
ORGANIZER;CN="ViFa-Recht":MAILTO:vifa-recht@sbb.spk-berlin.de
URL;VALUE=URI:https://events.intrecht.de/termine/termin/journal-of-law-fina
 nce-and-accounting-2020-conference-online-tagung/
END:VEVENT
BEGIN:VTIMEZONE
TZID:Europe/Berlin
BEGIN:STANDARD
TZOFFSETFROM:+0200
TZOFFSETTO:+0100
DTSTART:20201025T010000
TZNAME:CET
END:STANDARD
END:VTIMEZONE
END:VCALENDAR
