BEGIN:VCALENDAR
VERSION:2.0
PRODID:-//Events | FID-Recht//NONSGML Events//EN
CALSCALE:GREGORIAN
X-ORIGINAL-URL:https://events.intrecht.de/termine/
X-WR-CALDESC:Events | FID-Recht - Events
BEGIN:VEVENT
UID:20200602T0945Z-1591091115.9737-EO-599-1@172.16.200.141
STATUS:CONFIRMED
DTSTAMP:20260423T022040Z
CREATED:20260417T074939Z
LAST-MODIFIED:20260417T074957Z
DTSTART;VALUE=DATE:20260416
DTEND;VALUE=DATE:20260417
SUMMARY: Jour Fixe des AjV (Arbeitskreis junger Völkerrechtswissenschaftler
 *innen / Online Event)
DESCRIPTION: 16.4.2026 / Online https://voelkerrechtsblog.org/de/events/jou
 r-fixe-of-the-ajv/
X-ALT-DESC;FMTTYPE=text/html: <p>16.4.2026 / Online</p><p><a href="https://
 voelkerrechtsblog.org/de/events/jour-fixe-of-the-ajv/">https://voelkerrecht
 sblog.org/de/events/jour-fixe-of-the-ajv/</a></p><p>[av_button label='iCal-
 Export' link='./feed/eo-events' link_target='' size='small' position='cente
 r' label_display='' title_attr='' icon_select='yes' icon='ue85b' font='enty
 po-fontello' color='custom' custom_bg='#b5123e' custom_font='#ffffff' av_ui
 d='' id='' custom_class='' admin_preview_bg='']</p>
CATEGORIES:Europäisches / Internationales Recht
LOCATION:Online
GEO:0.000000;0.000000
ORGANIZER;CN="ViFa-Recht":MAILTO:vifa-recht@sbb.spk-berlin.de
URL;VALUE=URI:https://events.intrecht.de/termine/termin/jour-fixe-des-ajv-a
 rbeitskreis-junger-voelkerrechtswissenschaftlerinnen-online-event/
END:VEVENT
BEGIN:VTIMEZONE
TZID:Europe/Berlin
BEGIN:DAYLIGHT
TZOFFSETFROM:+0100
TZOFFSETTO:+0200
DTSTART:20260329T010000
TZNAME:CEST
END:DAYLIGHT
END:VTIMEZONE
END:VCALENDAR
