BEGIN:VCALENDAR
VERSION:2.0
PRODID:-//Events | FID-Recht//NONSGML Events//EN
CALSCALE:GREGORIAN
X-ORIGINAL-URL:https://events.intrecht.de/termine/
X-WR-CALDESC:Events | FID-Recht - Events
BEGIN:VEVENT
UID:20220304T0524Z-1646371491.4808-EO-5279-1@172.16.200.141
STATUS:CONFIRMED
DTSTAMP:20260421T102536Z
CREATED:20220223T082224Z
LAST-MODIFIED:20220223T082224Z
DTSTART;VALUE=DATE:20220328
DTEND;VALUE=DATE:20220330
SUMMARY: Jacques Cujas 1522 – 2022. La fabrique d’un « grand juriste » (Tag
 ung)
DESCRIPTION: 28.-29.3.2022\, Paris https://sites.google.com/site/prevostxav
 /lentr%C3%A9e-du-droit-dans-la-modernit%C3%A9-iuf/jacques-cujas-1522-2022  
X-ALT-DESC;FMTTYPE=text/html: <p>28.-29.3.2022\, Paris</p><p><a href="https
 ://sites.google.com/site/prevostxav/lentr%C3%A9e-du-droit-dans-la-modernit%
 C3%A9-iuf/jacques-cujas-1522-2022">https://sites.google.com/site/prevostxav
 /lentr%C3%A9e-du-droit-dans-la-modernit%C3%A9-iuf/jacques-cujas-1522-2022</
 a></p><p> </p><p>[av_button label='iCal-Export' link='./feed/eo-events' lin
 k_target='' size='small' position='center' label_display='' title_attr='' i
 con_select='yes' icon='ue85b' font='entypo-fontello' color='custom' custom_
 bg='#b5123e' custom_font='#ffffff' av_uid='' id='' custom_class='' admin_pr
 eview_bg='']</p>
CATEGORIES:Recht interdisziplinär
LOCATION:Ausland
GEO:0.000000;0.000000
ORGANIZER;CN="ViFa-Recht":MAILTO:vifa-recht@sbb.spk-berlin.de
URL;VALUE=URI:https://events.intrecht.de/termine/termin/jacques-cujas-1522-
 2022-la-fabrique-dun-grand-juriste-tagung/
END:VEVENT
BEGIN:VTIMEZONE
TZID:Europe/Berlin
BEGIN:STANDARD
TZOFFSETFROM:+0200
TZOFFSETTO:+0100
DTSTART:20211031T010000
TZNAME:CET
END:STANDARD
BEGIN:DAYLIGHT
TZOFFSETFROM:+0100
TZOFFSETTO:+0200
DTSTART:20220327T010000
TZNAME:CEST
END:DAYLIGHT
END:VTIMEZONE
END:VCALENDAR
