BEGIN:VCALENDAR
VERSION:2.0
PRODID:-//Events | FID-Recht//NONSGML Events//EN
CALSCALE:GREGORIAN
X-ORIGINAL-URL:https://events.intrecht.de/termine/
X-WR-CALDESC:Events | FID-Recht - Events
BEGIN:VEVENT
UID:20210731T0100Z-1627693234.7265-EO-4138-1@172.16.200.141
STATUS:CONFIRMED
DTSTAMP:20260423T091104Z
CREATED:20210730T182055Z
LAST-MODIFIED:20210730T182055Z
DTSTART;VALUE=DATE:20210715
DTEND;VALUE=DATE:20210715
SUMMARY: Ius Commune in the Making – Great Debates in the History of Law (W
 orkshop) (CfP)
DESCRIPTION: 25.-26.11.2021\, Maastricht (Frist für Einreichungen: 15.7.202
 1) http://esclh.blogspot.com/2021/05/call-for-papers-ius-commune-workshop-o
 n.html  
X-ALT-DESC;FMTTYPE=text/html: <p>25.-26.11.2021\, Maastricht (Frist für Ein
 reichungen: 15.7.2021)</p><p><a href="http://esclh.blogspot.com/2021/05/cal
 l-for-papers-ius-commune-workshop-on.html">http://esclh.blogspot.com/2021/0
 5/call-for-papers-ius-commune-workshop-on.html</a></p><p> </p><p>[av_button
  label='iCal-Export' link='./feed/eo-events' link_target='' size='small' po
 sition='center' label_display='' title_attr='' icon_select='yes' icon='ue85
 b' font='entypo-fontello' color='custom' custom_bg='#b5123e' custom_font='#
 ffffff' av_uid='' id='' custom_class='' admin_preview_bg='']</p>
CATEGORIES:Recht interdisziplinär
LOCATION:Ausland
GEO:0.000000;0.000000
ORGANIZER;CN="ViFa-Recht":MAILTO:vifa-recht@sbb.spk-berlin.de
URL;VALUE=URI:https://events.intrecht.de/termine/termin/ius-commune-in-the-
 making-great-debates-in-the-history-of-law-workshop-cfp/
END:VEVENT
BEGIN:VTIMEZONE
TZID:Europe/Berlin
BEGIN:DAYLIGHT
TZOFFSETFROM:+0100
TZOFFSETTO:+0200
DTSTART:20210328T010000
TZNAME:CEST
END:DAYLIGHT
END:VTIMEZONE
END:VCALENDAR
