BEGIN:VCALENDAR
VERSION:2.0
PRODID:-//Events | FID-Recht//NONSGML Events//EN
CALSCALE:GREGORIAN
X-ORIGINAL-URL:https://events.intrecht.de/termine/
X-WR-CALDESC:Events | FID-Recht - Events
BEGIN:VEVENT
UID:20201022T2011Z-1603397507.3376-EO-1725-1@172.16.200.141
STATUS:CONFIRMED
DTSTAMP:20260421T102647Z
CREATED:20201012T144949Z
LAST-MODIFIED:20201012T145007Z
DTSTART;VALUE=DATE:20201028
DTEND;VALUE=DATE:20201029
SUMMARY: Ius commune at the borders – Scandinavia and America (with Heikki 
 Pihlajamäki) (Online-Vortrag)
DESCRIPTION: 28.10.2020\, Online https://esclh.blogspot.com/2020/09/seminar
 -series-seminari-di-storia-del.html    
X-ALT-DESC;FMTTYPE=text/html: <p>28.10.2020\, Online</p><p><a href="https:/
 /esclh.blogspot.com/2020/09/seminar-series-seminari-di-storia-del.html">htt
 ps://esclh.blogspot.com/2020/09/seminar-series-seminari-di-storia-del.html<
 /a></p><p> </p><p> </p><p>[av_button label='iCal-Export' link='./feed/eo-ev
 ents' link_target='' size='small' position='center' label_display='' title_
 attr='' icon_select='yes' icon='ue85b' font='entypo-fontello' color='custom
 ' custom_bg='#b5123e' custom_font='#ffffff' av_uid='' id='' custom_class=''
  admin_preview_bg='']</p>
CATEGORIES:Europäisches / Internationales Recht,Recht interdisziplinär
ORGANIZER;CN="ViFa-Recht":MAILTO:vifa-recht@sbb.spk-berlin.de
URL;VALUE=URI:https://events.intrecht.de/termine/termin/ius-commune-at-the-
 borders-scandinavia-and-america-with-heikki-pihlajamaeki-online-vortrag/
END:VEVENT
BEGIN:VTIMEZONE
TZID:Europe/Berlin
BEGIN:STANDARD
TZOFFSETFROM:+0200
TZOFFSETTO:+0100
DTSTART:20201025T010000
TZNAME:CET
END:STANDARD
END:VTIMEZONE
END:VCALENDAR
