BEGIN:VCALENDAR
VERSION:2.0
PRODID:-//Events | FID-Recht//NONSGML Events//EN
CALSCALE:GREGORIAN
X-ORIGINAL-URL:https://events.intrecht.de/termine/
X-WR-CALDESC:Events | FID-Recht - Events
BEGIN:VEVENT
UID:20221128T0337Z-1669606662.1974-EO-7574-1@172.16.200.151
STATUS:CONFIRMED
DTSTAMP:20260421T151945Z
CREATED:20221124T142322Z
LAST-MODIFIED:20221124T142322Z
DTSTART;VALUE=DATE:20221201
DTEND;VALUE=DATE:20221204
SUMMARY: Italienisch-deutsche Tagung: Italienische Arbeitskräfte für die de
 utsche Kriegswirtschaft
DESCRIPTION: 1.-3.12.2022 / Mainz https://idw-online.de/de/news805259  
X-ALT-DESC;FMTTYPE=text/html: <p>1.-3.12.2022 / Mainz</p><p><a href="https:
 //idw-online.de/de/news805259">https://idw-online.de/de/news805259</a></p><
 p> </p><p>[av_button label='iCal-Export' link='./feed/eo-events' link_targe
 t='' size='small' position='center' label_display='' title_attr='' icon_sel
 ect='yes' icon='ue85b' font='entypo-fontello' color='custom' custom_bg='#b5
 123e' custom_font='#ffffff' av_uid='' id='' custom_class='' admin_preview_b
 g='']</p>
CATEGORIES:Recht interdisziplinär
LOCATION:Inland
GEO:0.000000;0.000000
ORGANIZER;CN="ViFa-Recht":MAILTO:vifa-recht@sbb.spk-berlin.de
URL;VALUE=URI:https://events.intrecht.de/termine/termin/italienisch-deutsch
 e-tagung-italienische-arbeitskraefte-fuer-die-deutsche-kriegswirtschaft/
END:VEVENT
BEGIN:VTIMEZONE
TZID:Europe/Berlin
BEGIN:STANDARD
TZOFFSETFROM:+0200
TZOFFSETTO:+0100
DTSTART:20221030T010000
TZNAME:CET
END:STANDARD
END:VTIMEZONE
END:VCALENDAR
