BEGIN:VCALENDAR
VERSION:2.0
PRODID:-//Events | FID-Recht//NONSGML Events//EN
CALSCALE:GREGORIAN
X-ORIGINAL-URL:https://events.intrecht.de/termine/
X-WR-CALDESC:Events | FID-Recht - Events
BEGIN:VEVENT
UID:20210731T0120Z-1627694424.4792-EO-4144-1@172.16.200.141
STATUS:CONFIRMED
DTSTAMP:20260421T102413Z
CREATED:20210730T184611Z
LAST-MODIFIED:20210730T184611Z
DTSTART;VALUE=DATE:20210730
DTEND;VALUE=DATE:20210730
SUMMARY: Issues in Public Law in South Asia (Workshop) (CfP)
DESCRIPTION: 10.-12.6.2022\, Oxford (Frist für Einreichungen: 30.7.2021) ht
 tps://adminlawblog.org/2021/04/13/call-for-papers-issues-in-public-law-in-s
 outh-asia-10-12-june-2022/  
X-ALT-DESC;FMTTYPE=text/html: <p>10.-12.6.2022\, Oxford (Frist für Einreich
 ungen: 30.7.2021)</p><p><a href="https://adminlawblog.org/2021/04/13/call-f
 or-papers-issues-in-public-law-in-south-asia-10-12-june-2022/">https://admi
 nlawblog.org/2021/04/13/call-for-papers-issues-in-public-law-in-south-asia-
 10-12-june-2022/</a></p><p> </p><p>[av_button label='iCal-Export' link='./f
 eed/eo-events' link_target='' size='small' position='center' label_display=
 '' title_attr='' icon_select='yes' icon='ue85b' font='entypo-fontello' colo
 r='custom' custom_bg='#b5123e' custom_font='#ffffff' av_uid='' id='' custom
 _class='' admin_preview_bg='']</p>
CATEGORIES:Öffentliches Recht,Recht interdisziplinär
LOCATION:Ausland
GEO:0.000000;0.000000
ORGANIZER;CN="ViFa-Recht":MAILTO:vifa-recht@sbb.spk-berlin.de
URL;VALUE=URI:https://events.intrecht.de/termine/termin/issues-in-public-la
 w-in-south-asia-workshop-cfp/
END:VEVENT
BEGIN:VTIMEZONE
TZID:Europe/Berlin
BEGIN:DAYLIGHT
TZOFFSETFROM:+0100
TZOFFSETTO:+0200
DTSTART:20210328T010000
TZNAME:CEST
END:DAYLIGHT
END:VTIMEZONE
END:VCALENDAR
