BEGIN:VCALENDAR
VERSION:2.0
PRODID:-//Events | FID-Recht//NONSGML Events//EN
CALSCALE:GREGORIAN
X-ORIGINAL-URL:https://events.intrecht.de/termine/
X-WR-CALDESC:Events | FID-Recht - Events
BEGIN:VEVENT
UID:20221209T0108Z-1670548091.9638-EO-7735-1@172.16.200.151
STATUS:CONFIRMED
DTSTAMP:20260421T102421Z
CREATED:20221206T173450Z
LAST-MODIFIED:20221206T173450Z
DTSTART;VALUE=DATE:20230207
DTEND;VALUE=DATE:20230208
SUMMARY: Issues and Developments in Entertainment Law – an intellectual pro
 perty perspective (Vortrag)
DESCRIPTION: 7.2.2023 / London https://www.legalscholars.ac.uk/event/lectur
 e-issues-and-developments-in-entertainment-law-an-intellectual-property-per
 spective-2/  
X-ALT-DESC;FMTTYPE=text/html: <p>7.2.2023 / London</p><p><a href="https://w
 ww.legalscholars.ac.uk/event/lecture-issues-and-developments-in-entertainme
 nt-law-an-intellectual-property-perspective-2/">https://www.legalscholars.a
 c.uk/event/lecture-issues-and-developments-in-entertainment-law-an-intellec
 tual-property-perspective-2/</a></p><p> </p><p>[av_button label='iCal-Expor
 t' link='./feed/eo-events' link_target='' size='small' position='center' la
 bel_display='' title_attr='' icon_select='yes' icon='ue85b' font='entypo-fo
 ntello' color='custom' custom_bg='#b5123e' custom_font='#ffffff' av_uid='' 
 id='' custom_class='' admin_preview_bg='']</p>
CATEGORIES:Zivilrecht
LOCATION:Ausland
GEO:0.000000;0.000000
ORGANIZER;CN="ViFa-Recht":MAILTO:vifa-recht@sbb.spk-berlin.de
URL;VALUE=URI:https://events.intrecht.de/termine/termin/issues-and-developm
 ents-in-entertainment-law-an-intellectual-property-perspective-vortrag/
END:VEVENT
BEGIN:VTIMEZONE
TZID:Europe/Berlin
BEGIN:STANDARD
TZOFFSETFROM:+0200
TZOFFSETTO:+0100
DTSTART:20221030T010000
TZNAME:CET
END:STANDARD
END:VTIMEZONE
END:VCALENDAR
