BEGIN:VCALENDAR
VERSION:2.0
PRODID:-//Events | FID-Recht//NONSGML Events//EN
CALSCALE:GREGORIAN
X-ORIGINAL-URL:https://events.intrecht.de/termine/
X-WR-CALDESC:Events | FID-Recht - Events
BEGIN:VEVENT
UID:20200603T1418Z-1591193923.3362-EO-587-1@172.16.200.141
STATUS:CONFIRMED
DTSTAMP:20260423T052456Z
CREATED:20250618T070053Z
LAST-MODIFIED:20250618T070053Z
DTSTART;VALUE=DATE:20250703
DTEND;VALUE=DATE:20250705
SUMMARY: Islamic Law in Comparative Perspectives: Milestones\, Methods\, an
 d Epistemologies (Symposium)
DESCRIPTION: 3.-4.7.2025 / Hamburg https://events.mpipriv.de/b?p=symposium_
 in_honour_of_nadjma_yassari
X-ALT-DESC;FMTTYPE=text/html: <p>3.-4.7.2025 / Hamburg</p><p><a href="https
 ://events.mpipriv.de/b?p=symposium_in_honour_of_nadjma_yassari">https://eve
 nts.mpipriv.de/b?p=symposium_in_honour_of_nadjma_yassari</a></p><p>[av_butt
 on label='iCal-Export' link='./feed/eo-events' link_target='' size='small' 
 position='center' label_display='' title_attr='' icon_select='yes' icon='ue
 85b' font='entypo-fontello' color='custom' custom_bg='#b5123e' custom_font=
 '#ffffff' av_uid='' id='' custom_class='' admin_preview_bg='']</p>
CATEGORIES:Recht interdisziplinär
LOCATION:Inland
GEO:0.000000;0.000000
ORGANIZER;CN="ViFa-Recht":MAILTO:vifa-recht@sbb.spk-berlin.de
URL;VALUE=URI:https://events.intrecht.de/termine/termin/islamic-law-in-comp
 arative-perspectives-milestones-methods-and-epistemologies-symposium/
END:VEVENT
BEGIN:VTIMEZONE
TZID:Europe/Berlin
BEGIN:DAYLIGHT
TZOFFSETFROM:+0100
TZOFFSETTO:+0200
DTSTART:20250330T010000
TZNAME:CEST
END:DAYLIGHT
END:VTIMEZONE
END:VCALENDAR
