BEGIN:VCALENDAR
VERSION:2.0
PRODID:-//Events | FID-Recht//NONSGML Events//EN
CALSCALE:GREGORIAN
X-ORIGINAL-URL:https://events.intrecht.de/termine/
X-WR-CALDESC:Events | FID-Recht - Events
BEGIN:VEVENT
UID:20210803T0244Z-1627958651.0055-EO-4101-1@172.16.200.141
STATUS:CONFIRMED
DTSTAMP:20260422T213055Z
CREATED:20210730T170612Z
LAST-MODIFIED:20210730T171022Z
DTSTART;TZID=Europe/Berlin:20210819T160000
DTEND;TZID=Europe/Berlin:20210819T173000
SUMMARY: Islamic Governance in Saudi Arabia: Contemporary Perspectives on s
 iyāsa sharʿiyya (mit Dominik Krell) (Online-Vortrag)
DESCRIPTION: 19.8.2021\, Online https://lotus2.gwdg.de/mpg/mhap/afternoon_t
 alks_08_2021.nsf/registration  
X-ALT-DESC;FMTTYPE=text/html: <p>19.8.2021\, Online</p><p><a href="https://
 lotus2.gwdg.de/mpg/mhap/afternoon_talks_08_2021.nsf/registration">https://l
 otus2.gwdg.de/mpg/mhap/afternoon_talks_08_2021.nsf/registration</a></p><p> 
 </p><p>[av_button label='iCal-Export' link='./feed/eo-events' link_target='
 ' size='small' position='center' label_display='' title_attr='' icon_select
 ='yes' icon='ue85b' font='entypo-fontello' color='custom' custom_bg='#b5123
 e' custom_font='#ffffff' av_uid='' id='' custom_class='' admin_preview_bg='
 ']</p>
CATEGORIES:Recht interdisziplinär
LOCATION:Online
GEO:0.000000;0.000000
ORGANIZER;CN="ViFa-Recht":MAILTO:vifa-recht@sbb.spk-berlin.de
URL;VALUE=URI:https://events.intrecht.de/termine/termin/islamic-governance-
 in-saudi-arabia-contemporary-perspectives-on-siyasa-shar%ca%bfiyya-mit-domi
 nik-krell-online-vortrag/
END:VEVENT
BEGIN:VTIMEZONE
TZID:Europe/Berlin
BEGIN:DAYLIGHT
TZOFFSETFROM:+0100
TZOFFSETTO:+0200
DTSTART:20210328T010000
TZNAME:CEST
END:DAYLIGHT
END:VTIMEZONE
END:VCALENDAR
