BEGIN:VCALENDAR
VERSION:2.0
PRODID:-//Events | FID-Recht//NONSGML Events//EN
CALSCALE:GREGORIAN
X-ORIGINAL-URL:https://events.intrecht.de/termine/
X-WR-CALDESC:Events | FID-Recht - Events
BEGIN:VEVENT
UID:20200913T0212Z-1599963168.6539-EO-1422-1@172.16.200.141
STATUS:CONFIRMED
DTSTAMP:20260422T181424Z
CREATED:20200901T110337Z
LAST-MODIFIED:20200901T110337Z
DTSTART;VALUE=DATE:20200911
DTEND;VALUE=DATE:20200911
SUMMARY: IP\, Technology & Social Justice in the Time of Coronavirus: Prote
 st\, Accountability\, and Change (Online-Konferenz)
DESCRIPTION: 11.9.2020\, Online https://iipsj.org/programs/cle_ipandcoronav
 irus/  
X-ALT-DESC;FMTTYPE=text/html: <p>11.9.2020\, Online</p><p><a href="https://
 iipsj.org/programs/cle_ipandcoronavirus/">https://iipsj.org/programs/cle_ip
 andcoronavirus/</a></p><p> </p><p>[av_button label='iCal-Export' link='./fe
 ed/eo-events' link_target='' size='small' position='center' label_display='
 ' title_attr='' icon_select='yes' icon='ue85b' font='entypo-fontello' color
 ='custom' custom_bg='#b5123e' custom_font='#ffffff' av_uid='' id='' custom_
 class='' admin_preview_bg='']</p>
CATEGORIES:Recht interdisziplinär
LOCATION:Online
GEO:0.000000;0.000000
ORGANIZER;CN="ViFa-Recht":MAILTO:vifa-recht@sbb.spk-berlin.de
URL;VALUE=URI:https://events.intrecht.de/termine/termin/ip-technology-socia
 l-justice-in-the-time-of-coronavirus-protest-accountability-and-change-onli
 ne-konferenz/
END:VEVENT
BEGIN:VTIMEZONE
TZID:Europe/Berlin
BEGIN:DAYLIGHT
TZOFFSETFROM:+0100
TZOFFSETTO:+0200
DTSTART:20200329T010000
TZNAME:CEST
END:DAYLIGHT
END:VTIMEZONE
END:VCALENDAR
