BEGIN:VCALENDAR
VERSION:2.0
PRODID:-//Events | FID-Recht//NONSGML Events//EN
CALSCALE:GREGORIAN
X-ORIGINAL-URL:https://events.intrecht.de/termine/
X-WR-CALDESC:Events | FID-Recht - Events
BEGIN:VEVENT
UID:20200603T1418Z-1591193923.3362-EO-587-1@172.16.200.141
STATUS:CONFIRMED
DTSTAMP:20260426T005345Z
CREATED:20250623T081256Z
LAST-MODIFIED:20250623T081256Z
DTSTART;VALUE=DATE:20251127
DTEND;VALUE=DATE:20251129
SUMMARY: Invisible Actors in the Making of International Law (1750-2000) (J
 unior Colloquium)
DESCRIPTION: 27.-28.11.2025 / Paris (Einreichungsfrist: 10.8.2025) https://
 www.sciencespo.fr/histoire/en/news/call-for-application-junior-colloquium-i
 nvisible-actors%20/
X-ALT-DESC;FMTTYPE=text/html: <p>27.-28.11.2025 / Paris <strong>(Einreichun
 gsfrist: 10.8.2025)</strong></p><p><a href="https://www.sciencespo.fr/histo
 ire/en/news/call-for-application-junior-colloquium-invisible-actors%20/">ht
 tps://www.sciencespo.fr/histoire/en/news/call-for-application-junior-colloq
 uium-invisible-actors%20/</a></p><p>[av_button label='iCal-Export' link='./
 feed/eo-events' link_target='' size='small' position='center' label_display
 ='' title_attr='' icon_select='yes' icon='ue85b' font='entypo-fontello' col
 or='custom' custom_bg='#b5123e' custom_font='#ffffff' av_uid='' id='' custo
 m_class='' admin_preview_bg='']</p>
CATEGORIES:Europäisches / Internationales Recht
LOCATION:Ausland
GEO:0.000000;0.000000
ORGANIZER;CN="ViFa-Recht":MAILTO:vifa-recht@sbb.spk-berlin.de
URL;VALUE=URI:https://events.intrecht.de/termine/termin/invisible-actors-in
 -the-making-of-international-law-1750-2000-junior-colloquium/
END:VEVENT
BEGIN:VTIMEZONE
TZID:Europe/Berlin
BEGIN:STANDARD
TZOFFSETFROM:+0200
TZOFFSETTO:+0100
DTSTART:20251026T010000
TZNAME:CET
END:STANDARD
END:VTIMEZONE
END:VCALENDAR
