BEGIN:VCALENDAR
VERSION:2.0
PRODID:-//Events | FID-Recht//NONSGML Events//EN
CALSCALE:GREGORIAN
X-ORIGINAL-URL:https://events.intrecht.de/termine/
X-WR-CALDESC:Events | FID-Recht - Events
BEGIN:VEVENT
UID:20200603T1418Z-1591193923.3362-EO-587-1@172.16.200.141
STATUS:CONFIRMED
DTSTAMP:20260423T001830Z
CREATED:20240229T113106Z
LAST-MODIFIED:20240229T113106Z
DTSTART;VALUE=DATE:20240313
DTEND;VALUE=DATE:20240314
SUMMARY: Intra-State Peace Agreements – Prose\, Poetry\, Legal Instrument? 
 (Online Event / TuLaw – Tübingen Series on the Laws of War)
DESCRIPTION: 13.3.2024 / Online https://uni-tuebingen.de/fakultaeten/jurist
 ische-fakultaet/lehrstuehle-und-personen/lehrstuehle/lehrstuehle-oeffentlic
 hes-recht/von-bernstorff/tulaw-tuebingen-series-on-the-laws-of-war/
X-ALT-DESC;FMTTYPE=text/html: <p>13.3.2024 / Online</p><p><a href="https://
 uni-tuebingen.de/fakultaeten/juristische-fakultaet/lehrstuehle-und-personen
 /lehrstuehle/lehrstuehle-oeffentliches-recht/von-bernstorff/tulaw-tuebingen
 -series-on-the-laws-of-war/">https://uni-tuebingen.de/fakultaeten/juristisc
 he-fakultaet/lehrstuehle-und-personen/lehrstuehle/lehrstuehle-oeffentliches
 -recht/von-bernstorff/tulaw-tuebingen-series-on-the-laws-of-war/</a></p><p>
 [av_button label='iCal-Export' link='./feed/eo-events' link_target='' size=
 'small' position='center' label_display='' title_attr='' icon_select='yes' 
 icon='ue85b' font='entypo-fontello' color='custom' custom_bg='#b5123e' cust
 om_font='#ffffff' av_uid='' id='' custom_class='' admin_preview_bg='']</p>
CATEGORIES:Recht interdisziplinär
LOCATION:Online
GEO:0.000000;0.000000
ORGANIZER;CN="ViFa-Recht":MAILTO:vifa-recht@sbb.spk-berlin.de
URL;VALUE=URI:https://events.intrecht.de/termine/termin/intra-state-peace-a
 greements-prose-poetry-legal-instrument-online-event-tulaw-tuebingen-series
 -on-the-laws-of-war/
END:VEVENT
BEGIN:VTIMEZONE
TZID:Europe/Berlin
BEGIN:STANDARD
TZOFFSETFROM:+0200
TZOFFSETTO:+0100
DTSTART:20231029T010000
TZNAME:CET
END:STANDARD
END:VTIMEZONE
END:VCALENDAR
