BEGIN:VCALENDAR
VERSION:2.0
PRODID:-//Events | FID-Recht//NONSGML Events//EN
CALSCALE:GREGORIAN
X-ORIGINAL-URL:https://events.intrecht.de/termine/
X-WR-CALDESC:Events | FID-Recht - Events
BEGIN:VEVENT
UID:20200603T1418Z-1591193923.3362-EO-587-1@172.16.200.141
STATUS:CONFIRMED
DTSTAMP:20260422T173727Z
CREATED:20240802T091248Z
LAST-MODIFIED:20240802T091248Z
DTSTART;VALUE=DATE:20250321
DTEND;VALUE=DATE:20250322
SUMMARY: Intersectionality\, Fundamental Rights and Social Relations in Com
 parative Law (Conference)
DESCRIPTION: 6.12.2024 und 21.3.2025 / Bologna und Trient (Einreichungsfris
 t: 20.9.2024) https://drive.google.com/file/d/10uaEK9VQIWSCWbRUgQNa50jI7u1R
 ZTuX/view
X-ALT-DESC;FMTTYPE=text/html: <p>6.12.2024 und 21.3.2025 / Bologna und Trie
 nt <strong>(Einreichungsfrist: 20.9.2024)</strong></p><p><a href="https://d
 rive.google.com/file/d/10uaEK9VQIWSCWbRUgQNa50jI7u1RZTuX/view">https://driv
 e.google.com/file/d/10uaEK9VQIWSCWbRUgQNa50jI7u1RZTuX/view</a></p><p>[av_bu
 tton label='iCal-Export' link='./feed/eo-events' link_target='' size='small
 ' position='center' label_display='' title_attr='' icon_select='yes' icon='
 ue85b' font='entypo-fontello' color='custom' custom_bg='#b5123e' custom_fon
 t='#ffffff' av_uid='' id='' custom_class='' admin_preview_bg='']</p>
CATEGORIES:Recht interdisziplinär
LOCATION:Ausland
GEO:0.000000;0.000000
ORGANIZER;CN="ViFa-Recht":MAILTO:vifa-recht@sbb.spk-berlin.de
URL;VALUE=URI:https://events.intrecht.de/termine/termin/intersectionality-f
 undamental-rights-and-social-relations-in-comparative-law-conference-2/
END:VEVENT
BEGIN:VTIMEZONE
TZID:Europe/Berlin
BEGIN:STANDARD
TZOFFSETFROM:+0200
TZOFFSETTO:+0100
DTSTART:20241027T010000
TZNAME:CET
END:STANDARD
END:VTIMEZONE
END:VCALENDAR
