BEGIN:VCALENDAR
VERSION:2.0
PRODID:-//Events | FID-Recht//NONSGML Events//EN
CALSCALE:GREGORIAN
X-ORIGINAL-URL:https://events.intrecht.de/termine/
X-WR-CALDESC:Events | FID-Recht - Events
BEGIN:VEVENT
UID:20200603T1418Z-1591193923.3362-EO-587-1@172.16.200.141
STATUS:CONFIRMED
DTSTAMP:20260422T192449Z
CREATED:20230815T083731Z
LAST-MODIFIED:20230815T083927Z
DTSTART;VALUE=DATE:20231130
DTEND;VALUE=DATE:20231203
SUMMARY: Intersectionality and Legal Identities (Hybrid Conference)
DESCRIPTION: 30.11.-2.12.2023 / Online und Toowoomba https://www.anzlhsconf
 erence2023.com/_files/ugd/db5f40_ae221b4e5a494f688d72bf1aa401d467.pdf
X-ALT-DESC;FMTTYPE=text/html: <p>30.11.-2.12.2023 / Online und Toowoomba</p
 ><p><a href="https://www.anzlhsconference2023.com/_files/ugd/db5f40_ae221b4
 e5a494f688d72bf1aa401d467.pdf">https://www.anzlhsconference2023.com/_files/
 ugd/db5f40_ae221b4e5a494f688d72bf1aa401d467.pdf</a></p><p>[av_button label=
 'iCal-Export' link='./feed/eo-events' link_target='' size='small' position=
 'center' label_display='' title_attr='' icon_select='yes' icon='ue85b' font
 ='entypo-fontello' color='custom' custom_bg='#b5123e' custom_font='#ffffff'
  av_uid='' id='' custom_class='' admin_preview_bg='']</p>
CATEGORIES:Recht interdisziplinär
LOCATION:Online
GEO:0.000000;0.000000
ORGANIZER;CN="ViFa-Recht":MAILTO:vifa-recht@sbb.spk-berlin.de
URL;VALUE=URI:https://events.intrecht.de/termine/termin/intersectionality-a
 nd-legal-identities-hybrid-conference/
END:VEVENT
BEGIN:VTIMEZONE
TZID:Europe/Berlin
BEGIN:STANDARD
TZOFFSETFROM:+0200
TZOFFSETTO:+0100
DTSTART:20231029T010000
TZNAME:CET
END:STANDARD
END:VTIMEZONE
END:VCALENDAR
