BEGIN:VCALENDAR
VERSION:2.0
PRODID:-//Events | FID-Recht//NONSGML Events//EN
CALSCALE:GREGORIAN
X-ORIGINAL-URL:https://events.intrecht.de/termine/
X-WR-CALDESC:Events | FID-Recht - Events
BEGIN:VEVENT
UID:20200603T1418Z-1591193923.3362-EO-587-1@172.16.200.141
STATUS:CONFIRMED
DTSTAMP:20260423T034645Z
CREATED:20250507T091924Z
LAST-MODIFIED:20250507T091924Z
DTSTART;VALUE=DATE:20250505
DTEND;VALUE=DATE:20250506
SUMMARY: Interpretation of the Scope of International Commercial Arbitratio
 n Agreements: A Comparison of Swiss and Turkish Case Law (Online Event)
DESCRIPTION: 5.5.2025 / Online https://events.mpipriv.de/b?p=current_resear
 ch_on_turkish_law_05_05_2025
X-ALT-DESC;FMTTYPE=text/html: <p>5.5.2025 / Online</p><p><a href="https://e
 vents.mpipriv.de/b?p=current_research_on_turkish_law_05_05_2025">https://ev
 ents.mpipriv.de/b?p=current_research_on_turkish_law_05_05_2025</a></p><p>[a
 v_button label='iCal-Export' link='./feed/eo-events' link_target='' size='s
 mall' position='center' label_display='' title_attr='' icon_select='yes' ic
 on='ue85b' font='entypo-fontello' color='custom' custom_bg='#b5123e' custom
 _font='#ffffff' av_uid='' id='' custom_class='' admin_preview_bg='']</p>
CATEGORIES:Zivilrecht
LOCATION:Online
GEO:0.000000;0.000000
ORGANIZER;CN="ViFa-Recht":MAILTO:vifa-recht@sbb.spk-berlin.de
URL;VALUE=URI:https://events.intrecht.de/termine/termin/interpretation-of-t
 he-scope-of-international-commercial-arbitration-agreements-a-comparison-of
 -swiss-and-turkish-case-law-online-event/
END:VEVENT
BEGIN:VTIMEZONE
TZID:Europe/Berlin
BEGIN:DAYLIGHT
TZOFFSETFROM:+0100
TZOFFSETTO:+0200
DTSTART:20250330T010000
TZNAME:CEST
END:DAYLIGHT
END:VTIMEZONE
END:VCALENDAR
