BEGIN:VCALENDAR
VERSION:2.0
PRODID:-//Events | FID-Recht//NONSGML Events//EN
CALSCALE:GREGORIAN
X-ORIGINAL-URL:https://events.intrecht.de/termine/
X-WR-CALDESC:Events | FID-Recht - Events
BEGIN:VEVENT
UID:20211206T0759Z-1638777565.5249-EO-4983-1@172.16.200.141
STATUS:CONFIRMED
DTSTAMP:20260422T125213Z
CREATED:20211126T224653Z
LAST-MODIFIED:20211126T224653Z
DTSTART;VALUE=DATE:20211202
DTEND;VALUE=DATE:20211204
SUMMARY: Interpretation of Customary International Law – Methods\, Interpre
 tative Choices and the Role of Coherence (Tagung)
DESCRIPTION: 2.-3.12.2021\, Den Haag Conference / Interpretation of Customa
 ry International Law: Methods\, Interpretative Choices and the Role of Cohe
 rence / 2-3 December 2021 – TRICI-Law – The Rules of Interpretation of Cust
 omary International Law  
X-ALT-DESC;FMTTYPE=text/html: <p>2.-3.12.2021\, Den Haag</p><p><a href="htt
 ps://trici-law.com/conference3/">Conference / Interpretation of Customary I
 nternational Law: Methods\, Interpretative Choices and the Role of Coherenc
 e / 2-3 December 2021 – TRICI-Law – The Rules of Interpretation of Customar
 y International Law</a></p><p> </p><p>[av_button label='iCal-Export' link='
 ./feed/eo-events' link_target='' size='small' position='center' label_displ
 ay='' title_attr='' icon_select='yes' icon='ue85b' font='entypo-fontello' c
 olor='custom' custom_bg='#b5123e' custom_font='#ffffff' av_uid='' id='' cus
 tom_class='' admin_preview_bg='']</p>
CATEGORIES:Europäisches / Internationales Recht
LOCATION:Ausland
GEO:0.000000;0.000000
ORGANIZER;CN="ViFa-Recht":MAILTO:vifa-recht@sbb.spk-berlin.de
URL;VALUE=URI:https://events.intrecht.de/termine/termin/interpretation-of-c
 ustomary-international-law-methods-interpretative-choices-and-the-role-of-c
 oherence-tagung/
END:VEVENT
BEGIN:VTIMEZONE
TZID:Europe/Berlin
BEGIN:STANDARD
TZOFFSETFROM:+0200
TZOFFSETTO:+0100
DTSTART:20211031T010000
TZNAME:CET
END:STANDARD
END:VTIMEZONE
END:VCALENDAR
