BEGIN:VCALENDAR
VERSION:2.0
PRODID:-//Events | FID-Recht//NONSGML Events//EN
CALSCALE:GREGORIAN
X-ORIGINAL-URL:https://events.intrecht.de/termine/
X-WR-CALDESC:Events | FID-Recht - Events
BEGIN:VEVENT
UID:20200603T1418Z-1591193923.3362-EO-587-1@172.16.200.141
STATUS:CONFIRMED
DTSTAMP:20260423T020935Z
CREATED:20240726T122302Z
LAST-MODIFIED:20240726T122302Z
DTSTART;VALUE=DATE:20241129
DTEND;VALUE=DATE:20241130
SUMMARY: Internationales Privatrecht – Einheitsrecht – Europäisches Privatr
 echt (Gedenksymposium zu Ehren von Jürgen Basedow)
DESCRIPTION: 29.11.2024 / Hamburg https://events.mpipriv.de/b?p=Gedenksympo
 sium_Basedow_29_November_2024
X-ALT-DESC;FMTTYPE=text/html: <p>29.11.2024 / Hamburg</p><p><a href="https:
 //events.mpipriv.de/b?p=Gedenksymposium_Basedow_29_November_2024">https://e
 vents.mpipriv.de/b?p=Gedenksymposium_Basedow_29_November_2024</a></p><p>[av
 _button label='iCal-Export' link='./feed/eo-events' link_target='' size='sm
 all' position='center' label_display='' title_attr='' icon_select='yes' ico
 n='ue85b' font='entypo-fontello' color='custom' custom_bg='#b5123e' custom_
 font='#ffffff' av_uid='' id='' custom_class='' admin_preview_bg='']</p>
CATEGORIES:Zivilrecht
LOCATION:Inland
GEO:0.000000;0.000000
ORGANIZER;CN="ViFa-Recht":MAILTO:vifa-recht@sbb.spk-berlin.de
URL;VALUE=URI:https://events.intrecht.de/termine/termin/internationales-pri
 vatrecht-einheitsrecht-europaeisches-privatrecht-gedenksymposium-zu-ehren-v
 on-juergen-basedow/
END:VEVENT
BEGIN:VTIMEZONE
TZID:Europe/Berlin
BEGIN:STANDARD
TZOFFSETFROM:+0200
TZOFFSETTO:+0100
DTSTART:20241027T010000
TZNAME:CET
END:STANDARD
END:VTIMEZONE
END:VCALENDAR
