BEGIN:VCALENDAR
VERSION:2.0
PRODID:-//Events | FID-Recht//NONSGML Events//EN
CALSCALE:GREGORIAN
X-ORIGINAL-URL:https://events.intrecht.de/termine/
X-WR-CALDESC:Events | FID-Recht - Events
BEGIN:VEVENT
UID:20220325T2334Z-1648251254.1523-EO-5043-1@172.16.200.141
STATUS:CONFIRMED
DTSTAMP:20260422T020644Z
CREATED:20220322T212118Z
LAST-MODIFIED:20220322T212118Z
DTSTART;VALUE=DATE:20220405
DTEND;VALUE=DATE:20220406
SUMMARY: Internationales Kunstrecht – Auflösungserscheinungen des klassisch
 en IPR (mit Erik Jayme) (Online-Vortrag)
DESCRIPTION: 5.4.2022\, Online Aktuelle Forschung im Internationalen Privat
 recht: Prof. em. Dr. Dr. h.c. mult. Erik Jayme (mpipriv.de)    
X-ALT-DESC;FMTTYPE=text/html: <p>5.4.2022\, Online</p><p><a href="https://e
 vents.mpipriv.de/aktuelle-forschung-im-IPR-erik-jayme-05-04-2022">Aktuelle 
 Forschung im Internationalen Privatrecht: Prof. em. Dr. Dr. h.c. mult. Erik
  Jayme (mpipriv.de)</a></p><p> </p><p> </p><p>[av_button label='iCal-Export
 ' link='./feed/eo-events' link_target='' size='small' position='center' lab
 el_display='' title_attr='' icon_select='yes' icon='ue85b' font='entypo-fon
 tello' color='custom' custom_bg='#b5123e' custom_font='#ffffff' av_uid='' i
 d='' custom_class='' admin_preview_bg='']</p>
CATEGORIES:Zivilrecht
LOCATION:Online
GEO:0.000000;0.000000
ORGANIZER;CN="ViFa-Recht":MAILTO:vifa-recht@sbb.spk-berlin.de
URL;VALUE=URI:https://events.intrecht.de/termine/termin/internationales-kun
 strecht-aufloesungserscheinungen-des-klassischen-ipr-mit-erik-jayme-online-
 vortrag/
END:VEVENT
BEGIN:VTIMEZONE
TZID:Europe/Berlin
BEGIN:DAYLIGHT
TZOFFSETFROM:+0100
TZOFFSETTO:+0200
DTSTART:20220327T010000
TZNAME:CEST
END:DAYLIGHT
END:VTIMEZONE
END:VCALENDAR
