BEGIN:VCALENDAR
VERSION:2.0
PRODID:-//Events | FID-Recht//NONSGML Events//EN
CALSCALE:GREGORIAN
X-ORIGINAL-URL:https://events.intrecht.de/termine/
X-WR-CALDESC:Events | FID-Recht - Events
BEGIN:VEVENT
UID:20200603T1418Z-1591193923.3362-EO-587-1@172.16.200.141
STATUS:CONFIRMED
DTSTAMP:20260425T162833Z
CREATED:20230418T100818Z
LAST-MODIFIED:20230418T100818Z
DTSTART;VALUE=DATE:20230628
DTEND;VALUE=DATE:20230701
SUMMARY: Internationales Flüchtlingsrecht nach dem Zweiten Weltkrieg: Konze
 pte\, Akteure\, Entwicklungslinien / International Refugee Law after the Se
 cond World War: Concepts\, Actors\, Trajectories (Internationale Konferenz)
DESCRIPTION: 28.-30.6.2023 / München https://www.hsozkult.de/event/id/event
 -135591
X-ALT-DESC;FMTTYPE=text/html: <p>28.-30.6.2023 / München</p><p><a href="htt
 ps://www.hsozkult.de/event/id/event-135591">https://www.hsozkult.de/event/i
 d/event-135591</a></p><p>[av_button label='iCal-Export' link='./feed/eo-eve
 nts' link_target='' size='small' position='center' label_display='' title_a
 ttr='' icon_select='yes' icon='ue85b' font='entypo-fontello' color='custom'
  custom_bg='#b5123e' custom_font='#ffffff' av_uid='' id='' custom_class='' 
 admin_preview_bg='']</p>
CATEGORIES:Recht interdisziplinär
LOCATION:Inland
GEO:0.000000;0.000000
ORGANIZER;CN="ViFa-Recht":MAILTO:vifa-recht@sbb.spk-berlin.de
URL;VALUE=URI:https://events.intrecht.de/termine/termin/internationales-flu
 echtlingsrecht-nach-dem-zweiten-weltkrieg-konzepte-akteure-entwicklungslini
 en-international-refugee-law-after-the-second-world-war-concepts-actors-tra
 jectories-internationa/
END:VEVENT
BEGIN:VTIMEZONE
TZID:Europe/Berlin
BEGIN:DAYLIGHT
TZOFFSETFROM:+0100
TZOFFSETTO:+0200
DTSTART:20230326T010000
TZNAME:CEST
END:DAYLIGHT
END:VTIMEZONE
END:VCALENDAR
