BEGIN:VCALENDAR
VERSION:2.0
PRODID:-//Events | FID-Recht//NONSGML Events//EN
CALSCALE:GREGORIAN
X-ORIGINAL-URL:https://events.intrecht.de/termine/
X-WR-CALDESC:Events | FID-Recht - Events
BEGIN:VEVENT
UID:20220626T1809Z-1656266977.97-EO-4303-1@172.16.200.151
STATUS:CONFIRMED
DTSTAMP:20260421T115504Z
CREATED:20220623T133709Z
LAST-MODIFIED:20220623T133709Z
DTSTART;VALUE=DATE:20220705
DTEND;VALUE=DATE:20220705
SUMMARY: Internationale Rechtsdurchsetzung auf sozialen Netzwerken (mit Bri
 gitta Lurger) (Online-Vortrag)
DESCRIPTION: 5.7.2022\, Online Aktuelle Forschung im Internationalen Privat
 recht: Virtueller Workshop mit Univ.-Prof. Mag. Dr. Brigitta Lurger (mpipri
 v.de)  
X-ALT-DESC;FMTTYPE=text/html: <p>5.7.2022\, Online</p><p><a href="https://e
 vents.mpipriv.de/iprbrigittalurger">Aktuelle Forschung im Internationalen P
 rivatrecht: Virtueller Workshop mit Univ.-Prof. Mag. Dr. Brigitta Lurger (m
 pipriv.de)</a></p><p> </p><p>[av_button label='iCal-Export' link='./feed/eo
 -events' link_target='' size='small' position='center' label_display='' tit
 le_attr='' icon_select='yes' icon='ue85b' font='entypo-fontello' color='cus
 tom' custom_bg='#b5123e' custom_font='#ffffff' av_uid='' id='' custom_class
 ='' admin_preview_bg='']</p>
CATEGORIES:Recht interdisziplinär
LOCATION:Online
GEO:0.000000;0.000000
ORGANIZER;CN="ViFa-Recht":MAILTO:vifa-recht@sbb.spk-berlin.de
URL;VALUE=URI:https://events.intrecht.de/termine/termin/internationale-rech
 tsdurchsetzung-auf-sozialen-netzwerken-mit-brigitta-lurger-online-vortrag/
END:VEVENT
BEGIN:VTIMEZONE
TZID:Europe/Berlin
BEGIN:DAYLIGHT
TZOFFSETFROM:+0100
TZOFFSETTO:+0200
DTSTART:20220327T010000
TZNAME:CEST
END:DAYLIGHT
END:VTIMEZONE
END:VCALENDAR
