BEGIN:VCALENDAR
VERSION:2.0
PRODID:-//Events | FID-Recht//NONSGML Events//EN
CALSCALE:GREGORIAN
X-ORIGINAL-URL:https://events.intrecht.de/termine/
X-WR-CALDESC:Events | FID-Recht - Events
BEGIN:VEVENT
UID:20200603T1418Z-1591193923.3362-EO-587-1@172.16.200.141
STATUS:CONFIRMED
DTSTAMP:20260422T052504Z
CREATED:20230821T131957Z
LAST-MODIFIED:20230821T131957Z
DTSTART;VALUE=DATE:20231121
DTEND;VALUE=DATE:20231124
SUMMARY: Internationale Nachwuchstagung zur Geschichte und Kultur der Bukow
 ina
DESCRIPTION: 21.-23.11.2023 / Augsburg (Frist für Einreichungen: 15.9.2023)
  https://www.hsozkult.de/event/id/event-137837?title=geschichte-und-kultur-
 der-bukowina&recno=4&q=rechtswissenschaft&sort=relevance&fq=&total=16
X-ALT-DESC;FMTTYPE=text/html: <p>21.-23.11.2023 / Augsburg <strong>(Frist f
 ür Einreichungen: 15.9.2023)</strong></p><p><a href="https://www.hsozkult.d
 e/event/id/event-137837?title=geschichte-und-kultur-der-bukowina&recno=4&q=
 rechtswissenschaft&sort=relevance&fq=&total=16">https://www.hsozkult.de/eve
 nt/id/event-137837?title=geschichte-und-kultur-der-bukowina&recno=4&q=recht
 swissenschaft&sort=relevance&fq=&total=16</a></p><p>[av_button label='iCal-
 Export' link='./feed/eo-events' link_target='' size='small' position='cente
 r' label_display='' title_attr='' icon_select='yes' icon='ue85b' font='enty
 po-fontello' color='custom' custom_bg='#b5123e' custom_font='#ffffff' av_ui
 d='' id='' custom_class='' admin_preview_bg='']</p>
CATEGORIES:Recht interdisziplinär
LOCATION:Inland
GEO:0.000000;0.000000
ORGANIZER;CN="ViFa-Recht":MAILTO:vifa-recht@sbb.spk-berlin.de
URL;VALUE=URI:https://events.intrecht.de/termine/termin/internationale-nach
 wuchstagung-zur-geschichte-und-kultur-der-bukowina/
END:VEVENT
BEGIN:VTIMEZONE
TZID:Europe/Berlin
BEGIN:STANDARD
TZOFFSETFROM:+0200
TZOFFSETTO:+0100
DTSTART:20231029T010000
TZNAME:CET
END:STANDARD
END:VTIMEZONE
END:VCALENDAR
