BEGIN:VCALENDAR
VERSION:2.0
PRODID:-//Events | FID-Recht//NONSGML Events//EN
CALSCALE:GREGORIAN
X-ORIGINAL-URL:https://events.intrecht.de/termine/
X-WR-CALDESC:Events | FID-Recht - Events
BEGIN:VEVENT
UID:20221112T1321Z-1668259298.4496-EO-7483-1@172.16.200.151
STATUS:CONFIRMED
DTSTAMP:20260423T084602Z
CREATED:20221109T103932Z
LAST-MODIFIED:20221109T103932Z
DTSTART;VALUE=DATE:20230615
DTEND;VALUE=DATE:20230618
SUMMARY: Internationale Jahrestagung „Städtische Rechtskulturen in der Vorm
 oderne“
DESCRIPTION: 15.-17.6.2023 / Regensburg https://www.uni-regensburg.de/philo
 sophie-kunst-geschichte-gesellschaft/forum-mittelalter/veranstaltungen-1/in
 dex.html  
X-ALT-DESC;FMTTYPE=text/html: <p>15.-17.6.2023 / Regensburg</p><p><a href="
 https://www.uni-regensburg.de/philosophie-kunst-geschichte-gesellschaft/for
 um-mittelalter/veranstaltungen-1/index.html">https://www.uni-regensburg.de/
 philosophie-kunst-geschichte-gesellschaft/forum-mittelalter/veranstaltungen
 -1/index.html</a></p><p> </p><p>[av_button label='iCal-Export' link='./feed
 /eo-events' link_target='' size='small' position='center' label_display='' 
 title_attr='' icon_select='yes' icon='ue85b' font='entypo-fontello' color='
 custom' custom_bg='#b5123e' custom_font='#ffffff' av_uid='' id='' custom_cl
 ass='' admin_preview_bg='']</p>
CATEGORIES:Recht interdisziplinär
LOCATION:Inland
GEO:0.000000;0.000000
ORGANIZER;CN="ViFa-Recht":MAILTO:vifa-recht@sbb.spk-berlin.de
URL;VALUE=URI:https://events.intrecht.de/termine/termin/internationale-jahr
 estagung-staedtische-rechtskulturen-in-der-vormoderne/
END:VEVENT
BEGIN:VTIMEZONE
TZID:Europe/Berlin
BEGIN:DAYLIGHT
TZOFFSETFROM:+0100
TZOFFSETTO:+0200
DTSTART:20230326T010000
TZNAME:CEST
END:DAYLIGHT
END:VTIMEZONE
END:VCALENDAR
