BEGIN:VCALENDAR
VERSION:2.0
PRODID:-//Events | FID-Recht//NONSGML Events//EN
CALSCALE:GREGORIAN
X-ORIGINAL-URL:https://events.intrecht.de/termine/
X-WR-CALDESC:Events | FID-Recht - Events
BEGIN:VEVENT
UID:20200603T1418Z-1591193923.3362-EO-587-1@172.16.200.141
STATUS:CONFIRMED
DTSTAMP:20260422T173930Z
CREATED:20230815T084236Z
LAST-MODIFIED:20230815T084236Z
DTSTART;VALUE=DATE:20231125
DTEND;VALUE=DATE:20231126
SUMMARY: International Symposium on New Developments of International Law o
 f the Sea
DESCRIPTION: 25.11.2023 / Peking (Frist für Einreichungen: 1.9.2023) https:
 //www.asiansil.org/international-symposium-on-new-developments-of-internati
 onal-law-of-the-sea/
X-ALT-DESC;FMTTYPE=text/html: <p>25.11.2023 / Peking <strong>(Frist für Ein
 reichungen: 1.9.2023)</strong></p><p><a href="https://www.asiansil.org/inte
 rnational-symposium-on-new-developments-of-international-law-of-the-sea/">h
 ttps://www.asiansil.org/international-symposium-on-new-developments-of-inte
 rnational-law-of-the-sea/</a></p><p>[av_button label='iCal-Export' link='./
 feed/eo-events' link_target='' size='small' position='center' label_display
 ='' title_attr='' icon_select='yes' icon='ue85b' font='entypo-fontello' col
 or='custom' custom_bg='#b5123e' custom_font='#ffffff' av_uid='' id='' custo
 m_class='' admin_preview_bg='']</p>
CATEGORIES:Europäisches / Internationales Recht
LOCATION:Ausland
GEO:0.000000;0.000000
ORGANIZER;CN="ViFa-Recht":MAILTO:vifa-recht@sbb.spk-berlin.de
URL;VALUE=URI:https://events.intrecht.de/termine/termin/international-sympo
 sium-on-new-developments-of-international-law-of-the-sea/
END:VEVENT
BEGIN:VTIMEZONE
TZID:Europe/Berlin
BEGIN:STANDARD
TZOFFSETFROM:+0200
TZOFFSETTO:+0100
DTSTART:20231029T010000
TZNAME:CET
END:STANDARD
END:VTIMEZONE
END:VCALENDAR
