BEGIN:VCALENDAR
VERSION:2.0
PRODID:-//Events | FID-Recht//NONSGML Events//EN
CALSCALE:GREGORIAN
X-ORIGINAL-URL:https://events.intrecht.de/termine/
X-WR-CALDESC:Events | FID-Recht - Events
BEGIN:VEVENT
UID:20200603T1418Z-1591193923.3362-EO-587-1@172.16.200.141
STATUS:CONFIRMED
DTSTAMP:20260422T173911Z
CREATED:20240830T093259Z
LAST-MODIFIED:20240830T093259Z
DTSTART;VALUE=DATE:20240910
DTEND;VALUE=DATE:20240911
SUMMARY: International Surrogacy Agreements From the Latin American Perspec
 tive. An Overview. (Virtual Workshop / Current Research in Private Internat
 ional Law)
DESCRIPTION: 10.9.2024 / Online https://events.mpipriv.de/b?p=virtual_works
 hop_with_nieve_rubaja
X-ALT-DESC;FMTTYPE=text/html: <p>10.9.2024 / Online</p><p><a href="https://
 events.mpipriv.de/b?p=virtual_workshop_with_nieve_rubaja">https://events.mp
 ipriv.de/b?p=virtual_workshop_with_nieve_rubaja</a></p><p>[av_button label=
 'iCal-Export' link='./feed/eo-events' link_target='' size='small' position=
 'center' label_display='' title_attr='' icon_select='yes' icon='ue85b' font
 ='entypo-fontello' color='custom' custom_bg='#b5123e' custom_font='#ffffff'
  av_uid='' id='' custom_class='' admin_preview_bg='']</p>
CATEGORIES:Zivilrecht
LOCATION:Online
GEO:0.000000;0.000000
ORGANIZER;CN="ViFa-Recht":MAILTO:vifa-recht@sbb.spk-berlin.de
URL;VALUE=URI:https://events.intrecht.de/termine/termin/international-surro
 gacy-agreements-from-the-latin-american-perspective-an-overview-virtual-wor
 kshop-current-research-in-private-international-law/
END:VEVENT
BEGIN:VTIMEZONE
TZID:Europe/Berlin
BEGIN:DAYLIGHT
TZOFFSETFROM:+0100
TZOFFSETTO:+0200
DTSTART:20240331T010000
TZNAME:CEST
END:DAYLIGHT
END:VTIMEZONE
END:VCALENDAR
