BEGIN:VCALENDAR
VERSION:2.0
PRODID:-//Events | FID-Recht//NONSGML Events//EN
CALSCALE:GREGORIAN
X-ORIGINAL-URL:https://events.intrecht.de/termine/
X-WR-CALDESC:Events | FID-Recht - Events
BEGIN:VEVENT
UID:20200603T1418Z-1591193923.3362-EO-587-1@172.16.200.141
STATUS:CONFIRMED
DTSTAMP:20260422T200504Z
CREATED:20240223T133121Z
LAST-MODIFIED:20240223T133121Z
DTSTART;VALUE=DATE:20240916
DTEND;VALUE=DATE:20240921
SUMMARY: International Summer School on Business and Human Rights Practice
DESCRIPTION: 16.-20.9.2024 / Nürnberg (Bewerbungsfrist: 31.3.2024) https://
 www.ecchr.eu/fileadmin/user_upload/BHRSummerSchool_2024.pdf.pdf
X-ALT-DESC;FMTTYPE=text/html: <p>16.-20.9.2024 / Nürnberg <strong>(Bewerbun
 gsfrist: 31.3.2024)</strong></p><p><a href="https://www.ecchr.eu/fileadmin/
 user_upload/BHRSummerSchool_2024.pdf.pdf">https://www.ecchr.eu/fileadmin/us
 er_upload/BHRSummerSchool_2024.pdf.pdf</a></p><p>[av_button label='iCal-Exp
 ort' link='./feed/eo-events' link_target='' size='small' position='center' 
 label_display='' title_attr='' icon_select='yes' icon='ue85b' font='entypo-
 fontello' color='custom' custom_bg='#b5123e' custom_font='#ffffff' av_uid='
 ' id='' custom_class='' admin_preview_bg='']</p>
CATEGORIES:Recht interdisziplinär
LOCATION:Inland
GEO:0.000000;0.000000
ORGANIZER;CN="ViFa-Recht":MAILTO:vifa-recht@sbb.spk-berlin.de
URL;VALUE=URI:https://events.intrecht.de/termine/termin/international-summe
 r-school-on-business-and-human-rights-practice/
END:VEVENT
BEGIN:VTIMEZONE
TZID:Europe/Berlin
BEGIN:DAYLIGHT
TZOFFSETFROM:+0100
TZOFFSETTO:+0200
DTSTART:20240331T010000
TZNAME:CEST
END:DAYLIGHT
END:VTIMEZONE
END:VCALENDAR
