BEGIN:VCALENDAR
VERSION:2.0
PRODID:-//Events | FID-Recht//NONSGML Events//EN
CALSCALE:GREGORIAN
X-ORIGINAL-URL:https://events.intrecht.de/termine/
X-WR-CALDESC:Events | FID-Recht - Events
BEGIN:VEVENT
UID:20200602T0945Z-1591091115.9737-EO-599-1@172.16.200.141
STATUS:CONFIRMED
DTSTAMP:20260423T003316Z
CREATED:20260318T130025Z
LAST-MODIFIED:20260318T130025Z
DTSTART;VALUE=DATE:20261015
DTEND;VALUE=DATE:20261017
SUMMARY: International Perspectives of Climate Criminal Law (Tagung)
DESCRIPTION: 15.-16.10.2026 / Online und Konstanz (Einreichungsfrist: 15.5.
 2026) https://aidp-deutschland.de/wp-content/uploads/2026/03/Call-for-Paper
 s_Climate-Criminal-Law.pdf
X-ALT-DESC;FMTTYPE=text/html: <p>15.-16.10.2026 / Online und Konstanz <stro
 ng>(Einreichungsfrist: 15.5.2026)</strong></p><p><a href="https://aidp-deut
 schland.de/wp-content/uploads/2026/03/Call-for-Papers_Climate-Criminal-Law.
 pdf">https://aidp-deutschland.de/wp-content/uploads/2026/03/Call-for-Papers
 _Climate-Criminal-Law.pdf</a></p><p>[av_button label='iCal-Export' link='./
 feed/eo-events' link_target='' size='small' position='center' label_display
 ='' title_attr='' icon_select='yes' icon='ue85b' font='entypo-fontello' col
 or='custom' custom_bg='#b5123e' custom_font='#ffffff' av_uid='' id='' custo
 m_class='' admin_preview_bg='']</p>
CATEGORIES:Recht interdisziplinär
LOCATION:Hybrid
GEO:0.000000;0.000000
ORGANIZER;CN="ViFa-Recht":MAILTO:vifa-recht@sbb.spk-berlin.de
URL;VALUE=URI:https://events.intrecht.de/termine/termin/international-persp
 ectives-of-climate-criminal-law-tagung/
END:VEVENT
BEGIN:VTIMEZONE
TZID:Europe/Berlin
BEGIN:DAYLIGHT
TZOFFSETFROM:+0100
TZOFFSETTO:+0200
DTSTART:20260329T010000
TZNAME:CEST
END:DAYLIGHT
END:VTIMEZONE
END:VCALENDAR
