BEGIN:VCALENDAR
VERSION:2.0
PRODID:-//Events | FID-Recht//NONSGML Events//EN
CALSCALE:GREGORIAN
X-ORIGINAL-URL:https://events.intrecht.de/termine/
X-WR-CALDESC:Events | FID-Recht - Events
BEGIN:VEVENT
UID:20200603T1418Z-1591193923.3362-EO-587-1@172.16.200.141
STATUS:CONFIRMED
DTSTAMP:20260422T110916Z
CREATED:20231214T113608Z
LAST-MODIFIED:20231214T113608Z
DTSTART;VALUE=DATE:20240117
DTEND;VALUE=DATE:20240118
SUMMARY: International Organizations\, the Rule of Law\, and the Role of th
 e Legal Advisor (Vortrag / Völkerrechtliche Tagesthemen)
DESCRIPTION: 17.1.2024 / Online und Kiel https://www.wsi.uni-kiel.de/de/ver
 anstaltungen/voelkerrechtliche-tagesthemen/voelkerrechtliche-tagesthemen-in
 ternational-organizations-the-rule-of-law-and-the-role-of-the-legal-advisor
 -with-noora-arajaervi
X-ALT-DESC;FMTTYPE=text/html: <p>17.1.2024 / Online und Kiel</p><p><a href=
 "https://www.wsi.uni-kiel.de/de/veranstaltungen/voelkerrechtliche-tagesthem
 en/voelkerrechtliche-tagesthemen-international-organizations-the-rule-of-la
 w-and-the-role-of-the-legal-advisor-with-noora-arajaervi">https://www.wsi.u
 ni-kiel.de/de/veranstaltungen/voelkerrechtliche-tagesthemen/voelkerrechtlic
 he-tagesthemen-international-organizations-the-rule-of-law-and-the-role-of-
 the-legal-advisor-with-noora-arajaervi</a></p><p>[av_button label='iCal-Exp
 ort' link='./feed/eo-events' link_target='' size='small' position='center' 
 label_display='' title_attr='' icon_select='yes' icon='ue85b' font='entypo-
 fontello' color='custom' custom_bg='#b5123e' custom_font='#ffffff' av_uid='
 ' id='' custom_class='' admin_preview_bg='']</p>
CATEGORIES:Europäisches / Internationales Recht
LOCATION:Online
GEO:0.000000;0.000000
ORGANIZER;CN="ViFa-Recht":MAILTO:vifa-recht@sbb.spk-berlin.de
URL;VALUE=URI:https://events.intrecht.de/termine/termin/international-organ
 izations-the-rule-of-law-and-the-role-of-the-legal-advisor-vortrag-voelkerr
 echtliche-tagesthemen/
END:VEVENT
BEGIN:VTIMEZONE
TZID:Europe/Berlin
BEGIN:STANDARD
TZOFFSETFROM:+0200
TZOFFSETTO:+0100
DTSTART:20231029T010000
TZNAME:CET
END:STANDARD
END:VTIMEZONE
END:VCALENDAR
