BEGIN:VCALENDAR
VERSION:2.0
PRODID:-//Events | FID-Recht//NONSGML Events//EN
CALSCALE:GREGORIAN
X-ORIGINAL-URL:https://events.intrecht.de/termine/
X-WR-CALDESC:Events | FID-Recht - Events
BEGIN:VEVENT
UID:20211002T0838Z-1633163923.4764-EO-4677-1@172.16.200.141
STATUS:CONFIRMED
DTSTAMP:20260423T005157Z
CREATED:20210930T180932Z
LAST-MODIFIED:20210930T180932Z
DTSTART;VALUE=DATE:20211129
DTEND;VALUE=DATE:20211201
SUMMARY: International Organization through Law – The League of Nations and
  International Law (1919-1939) (Online-Konferenz)
DESCRIPTION: 29.11.-30.11.2021\, Online https://www.lhlt.mpg.de/2587010/eve
 nt-21-11-29-league-of-nations-conference  
X-ALT-DESC;FMTTYPE=text/html: <p>29.11.-30.11.2021\, Online</p><p><a href="
 https://www.lhlt.mpg.de/2587010/event-21-11-29-league-of-nations-conference
 ">https://www.lhlt.mpg.de/2587010/event-21-11-29-league-of-nations-conferen
 ce</a></p><p> </p><p>[av_button label='iCal-Export' link='./feed/eo-events'
  link_target='' size='small' position='center' label_display='' title_attr=
 '' icon_select='yes' icon='ue85b' font='entypo-fontello' color='custom' cus
 tom_bg='#b5123e' custom_font='#ffffff' av_uid='' id='' custom_class='' admi
 n_preview_bg='']</p>
CATEGORIES:Europäisches / Internationales Recht,Recht interdisziplinär
LOCATION:Online
GEO:0.000000;0.000000
ORGANIZER;CN="ViFa-Recht":MAILTO:vifa-recht@sbb.spk-berlin.de
URL;VALUE=URI:https://events.intrecht.de/termine/termin/international-organ
 ization-through-law-the-league-of-nations-and-international-law-1919-1939-o
 nline-konferenz/
END:VEVENT
BEGIN:VTIMEZONE
TZID:Europe/Berlin
BEGIN:STANDARD
TZOFFSETFROM:+0200
TZOFFSETTO:+0100
DTSTART:20211031T010000
TZNAME:CET
END:STANDARD
END:VTIMEZONE
END:VCALENDAR
