BEGIN:VCALENDAR
VERSION:2.0
PRODID:-//Events | FID-Recht//NONSGML Events//EN
CALSCALE:GREGORIAN
X-ORIGINAL-URL:https://events.intrecht.de/termine/
X-WR-CALDESC:Events | FID-Recht - Events
BEGIN:VEVENT
UID:20210123T0003Z-1611360199.1258-EO-3158-1@172.16.200.141
STATUS:CONFIRMED
DTSTAMP:20260420T111325Z
CREATED:20210122T191311Z
LAST-MODIFIED:20210122T191311Z
DTSTART;VALUE=DATE:20211118
DTEND;VALUE=DATE:20211120
SUMMARY: International Military Justice Forum (Tagung)
DESCRIPTION: 18.-19.11.2021\, Paris (Frist für Einreichungen: 15.4.2021) ht
 tp://esclh.blogspot.com/2021/01/call-for-papers-international-military.html
     
X-ALT-DESC;FMTTYPE=text/html: <p>18.-19.11.2021\, Paris (Frist für Einreich
 ungen: 15.4.2021)</p><p><a href="http://esclh.blogspot.com/2021/01/call-for
 -papers-international-military.html">http://esclh.blogspot.com/2021/01/call
 -for-papers-international-military.html</a></p><p> </p><p> </p><p>[av_butto
 n label='iCal-Export' link='./feed/eo-events' link_target='' size='small' p
 osition='center' label_display='' title_attr='' icon_select='yes' icon='ue8
 5b' font='entypo-fontello' color='custom' custom_bg='#b5123e' custom_font='
 #ffffff' av_uid='' id='' custom_class='' admin_preview_bg='']</p>
CATEGORIES:Europäisches / Internationales Recht
LOCATION:Ausland
GEO:0.000000;0.000000
ORGANIZER;CN="ViFa-Recht":MAILTO:vifa-recht@sbb.spk-berlin.de
URL;VALUE=URI:https://events.intrecht.de/termine/termin/international-milit
 ary-justice-forum-tagung/
END:VEVENT
BEGIN:VTIMEZONE
TZID:Europe/Berlin
BEGIN:STANDARD
TZOFFSETFROM:+0200
TZOFFSETTO:+0100
DTSTART:20211031T010000
TZNAME:CET
END:STANDARD
END:VTIMEZONE
END:VCALENDAR
