BEGIN:VCALENDAR
VERSION:2.0
PRODID:-//Events | FID-Recht//NONSGML Events//EN
CALSCALE:GREGORIAN
X-ORIGINAL-URL:https://events.intrecht.de/termine/
X-WR-CALDESC:Events | FID-Recht - Events
BEGIN:VEVENT
UID:20200602T0945Z-1591091115.9737-EO-599-1@172.16.200.141
STATUS:CONFIRMED
DTSTAMP:20260423T015936Z
CREATED:20251008T083119Z
LAST-MODIFIED:20251008T083229Z
DTSTART;VALUE=DATE:20260226
DTEND;VALUE=DATE:20260227
SUMMARY: International Legal Resonance (Workshop)
DESCRIPTION: 26.2.2026 / Den Haag (Einreichungsfrist: 8.10.2025) https://ww
 w.asser.nl/about-the-asser-institute/news/call-for-abstracts-international-
 legal-resonance-workshop-on-selective-attention-in-international-law/
X-ALT-DESC;FMTTYPE=text/html: <p>26.2.2026 / Den Haag <strong>(Einreichungs
 frist: 8.10.2025)</strong></p><p><a href="https://www.asser.nl/about-the-as
 ser-institute/news/call-for-abstracts-international-legal-resonance-worksho
 p-on-selective-attention-in-international-law/">https://www.asser.nl/about-
 the-asser-institute/news/call-for-abstracts-international-legal-resonance-w
 orkshop-on-selective-attention-in-international-law/</a></p><p>[av_button l
 abel='iCal-Export' link='./feed/eo-events' link_target='' size='small' posi
 tion='center' label_display='' title_attr='' icon_select='yes' icon='ue85b'
  font='entypo-fontello' color='custom' custom_bg='#b5123e' custom_font='#ff
 ffff' av_uid='' id='' custom_class='' admin_preview_bg='']</p>
CATEGORIES:Europäisches / Internationales Recht
LOCATION:Ausland
GEO:0.000000;0.000000
ORGANIZER;CN="ViFa-Recht":MAILTO:vifa-recht@sbb.spk-berlin.de
URL;VALUE=URI:https://events.intrecht.de/termine/termin/international-legal
 -resonance-workshop/
END:VEVENT
BEGIN:VTIMEZONE
TZID:Europe/Berlin
BEGIN:STANDARD
TZOFFSETFROM:+0200
TZOFFSETTO:+0100
DTSTART:20251026T010000
TZNAME:CET
END:STANDARD
END:VTIMEZONE
END:VCALENDAR
