BEGIN:VCALENDAR
VERSION:2.0
PRODID:-//Events | FID-Recht//NONSGML Events//EN
CALSCALE:GREGORIAN
X-ORIGINAL-URL:https://events.intrecht.de/termine/
X-WR-CALDESC:Events | FID-Recht - Events
BEGIN:VEVENT
UID:20200603T1418Z-1591193923.3362-EO-587-1@172.16.200.141
STATUS:CONFIRMED
DTSTAMP:20260423T003223Z
CREATED:20241127T084709Z
LAST-MODIFIED:20241127T084709Z
DTSTART;VALUE=DATE:20250605
DTEND;VALUE=DATE:20250607
SUMMARY: International Law’s Local Encounters: Experiences and Imaginaries 
 of (de-)Coloniality (Workshop)
DESCRIPTION: 5.-6.6.2025 / Amsterdam (Einreichungsfrist: 5.1.2025) https://
 decolonialfutures.uva.nl/content/news/2024/11/call-for-papers-international
 -laws-local-encounters-experiences-and-imaginaries-of-de-coloniality.html
X-ALT-DESC;FMTTYPE=text/html: <p>5.-6.6.2025 / Amsterdam <strong>(Einreichu
 ngsfrist: 5.1.2025)</strong></p><p><a href="https://decolonialfutures.uva.n
 l/content/news/2024/11/call-for-papers-international-laws-local-encounters-
 experiences-and-imaginaries-of-de-coloniality.html">https://decolonialfutur
 es.uva.nl/content/news/2024/11/call-for-papers-international-laws-local-enc
 ounters-experiences-and-imaginaries-of-de-coloniality.html</a></p><p>[av_bu
 tton label='iCal-Export' link='./feed/eo-events' link_target='' size='small
 ' position='center' label_display='' title_attr='' icon_select='yes' icon='
 ue85b' font='entypo-fontello' color='custom' custom_bg='#b5123e' custom_fon
 t='#ffffff' av_uid='' id='' custom_class='' admin_preview_bg='']</p>
CATEGORIES:Europäisches / Internationales Recht
LOCATION:Ausland
GEO:0.000000;0.000000
ORGANIZER;CN="ViFa-Recht":MAILTO:vifa-recht@sbb.spk-berlin.de
URL;VALUE=URI:https://events.intrecht.de/termine/termin/international-laws-
 local-encounters-experiences-and-imaginaries-of-de-coloniality-workshop/
END:VEVENT
BEGIN:VTIMEZONE
TZID:Europe/Berlin
BEGIN:DAYLIGHT
TZOFFSETFROM:+0100
TZOFFSETTO:+0200
DTSTART:20250330T010000
TZNAME:CEST
END:DAYLIGHT
END:VTIMEZONE
END:VCALENDAR
