BEGIN:VCALENDAR
VERSION:2.0
PRODID:-//Events | FID-Recht//NONSGML Events//EN
CALSCALE:GREGORIAN
X-ORIGINAL-URL:https://events.intrecht.de/termine/
X-WR-CALDESC:Events | FID-Recht - Events
BEGIN:VEVENT
UID:20220903T2113Z-1662239582.5441-EO-5329-1@172.16.200.151
STATUS:CONFIRMED
DTSTAMP:20260423T030227Z
CREATED:20220901T102757Z
LAST-MODIFIED:20220901T102938Z
DTSTART;VALUE=DATE:20221020
DTEND;VALUE=DATE:20221023
SUMMARY: International Law Weekend 2022 (Tagung)
DESCRIPTION: 20.-22.10.2022\, New York City https://voelkerrechtsblog.org/e
 vents/international-law-weekend-2022/  
X-ALT-DESC;FMTTYPE=text/html: <p>20.-22.10.2022\, New York City</p><p>https
 ://voelkerrechtsblog.org/events/international-law-weekend-2022/</p><p> </p>
 <p>[av_button label='iCal-Export' link='./feed/eo-events' link_target='' si
 ze='small' position='center' label_display='' title_attr='' icon_select='ye
 s' icon='ue85b' font='entypo-fontello' color='custom' custom_bg='#b5123e' c
 ustom_font='#ffffff' av_uid='' id='' custom_class='' admin_preview_bg='']</
 p>
CATEGORIES:Europäisches / Internationales Recht
LOCATION:Ausland
GEO:0.000000;0.000000
ORGANIZER;CN="ViFa-Recht":MAILTO:vifa-recht@sbb.spk-berlin.de
URL;VALUE=URI:https://events.intrecht.de/termine/termin/international-law-w
 eekend-2022-tagung/
END:VEVENT
BEGIN:VTIMEZONE
TZID:Europe/Berlin
BEGIN:DAYLIGHT
TZOFFSETFROM:+0100
TZOFFSETTO:+0200
DTSTART:20220327T010000
TZNAME:CEST
END:DAYLIGHT
END:VTIMEZONE
END:VCALENDAR
