BEGIN:VCALENDAR
VERSION:2.0
PRODID:-//Events | FID-Recht//NONSGML Events//EN
CALSCALE:GREGORIAN
X-ORIGINAL-URL:https://events.intrecht.de/termine/
X-WR-CALDESC:Events | FID-Recht - Events
BEGIN:VEVENT
UID:20200603T1418Z-1591193923.3362-EO-587-1@172.16.200.141
STATUS:CONFIRMED
DTSTAMP:20260425T234447Z
CREATED:20230611T140617Z
LAST-MODIFIED:20230611T140617Z
DTSTART;VALUE=DATE:20230706
DTEND;VALUE=DATE:20230707
SUMMARY: International Law Stammtisch
DESCRIPTION: 6.7.2023 / Berlin https://voelkerrechtsblog.org/events/interna
 tional-law-stammtisch-berlin-with-special-guest-prof-helmut-aust/
X-ALT-DESC;FMTTYPE=text/html: <p>6.7.2023 / Berlin</p><p><a href="https://v
 oelkerrechtsblog.org/events/international-law-stammtisch-berlin-with-specia
 l-guest-prof-helmut-aust/">https://voelkerrechtsblog.org/events/internation
 al-law-stammtisch-berlin-with-special-guest-prof-helmut-aust/</a></p><p>[av
 _button label='iCal-Export' link='./feed/eo-events' link_target='' size='sm
 all' position='center' label_display='' title_attr='' icon_select='yes' ico
 n='ue85b' font='entypo-fontello' color='custom' custom_bg='#b5123e' custom_
 font='#ffffff' av_uid='' id='' custom_class='' admin_preview_bg='']</p>
CATEGORIES:Europäisches / Internationales Recht
LOCATION:Inland
GEO:0.000000;0.000000
ORGANIZER;CN="ViFa-Recht":MAILTO:vifa-recht@sbb.spk-berlin.de
URL;VALUE=URI:https://events.intrecht.de/termine/termin/international-law-s
 tammtisch-2/
END:VEVENT
BEGIN:VTIMEZONE
TZID:Europe/Berlin
BEGIN:DAYLIGHT
TZOFFSETFROM:+0100
TZOFFSETTO:+0200
DTSTART:20230326T010000
TZNAME:CEST
END:DAYLIGHT
END:VTIMEZONE
END:VCALENDAR
