BEGIN:VCALENDAR
VERSION:2.0
PRODID:-//Events | FID-Recht//NONSGML Events//EN
CALSCALE:GREGORIAN
X-ORIGINAL-URL:https://events.intrecht.de/termine/
X-WR-CALDESC:Events | FID-Recht - Events
BEGIN:VEVENT
UID:20220307T0410Z-1646626245.4378-EO-4258-1@172.16.200.141
STATUS:CONFIRMED
DTSTAMP:20260421T102551Z
CREATED:20220223T090033Z
LAST-MODIFIED:20220223T090253Z
DTSTART;VALUE=DATE:20220330
DTEND;VALUE=DATE:20220331
SUMMARY: International Law of the Sea and Global Security – Regulating an I
 llusion? (Pre-Conference Workshop)
DESCRIPTION: 30.3.2022\, Glasgow Roundtable discussion | ESIL Interest Grou
 p on the Law of the Sea – European Society of International Law | Société e
 uropéenne de droit international (esil-sedi.eu)  
X-ALT-DESC;FMTTYPE=text/html: <p>30.3.2022\, Glasgow</p><p><a href="https:/
 /esil-sedi.eu/roundtable-discussion-esil-interest-group-on-the-law-of-the-s
 ea/">Roundtable discussion | ESIL Interest Group on the Law of the Sea – Eu
 ropean Society of International Law | Société européenne de droit internati
 onal (esil-sedi.eu)</a></p><p> </p><p>[av_button label='iCal-Export' link='
 ./feed/eo-events' link_target='' size='small' position='center' label_displ
 ay='' title_attr='' icon_select='yes' icon='ue85b' font='entypo-fontello' c
 olor='custom' custom_bg='#b5123e' custom_font='#ffffff' av_uid='' id='' cus
 tom_class='' admin_preview_bg='']</p>
CATEGORIES:Europäisches / Internationales Recht
LOCATION:Ausland
GEO:0.000000;0.000000
ORGANIZER;CN="ViFa-Recht":MAILTO:vifa-recht@sbb.spk-berlin.de
URL;VALUE=URI:https://events.intrecht.de/termine/termin/international-law-o
 f-the-sea-and-global-security-regulating-an-illusion-workshop/
END:VEVENT
BEGIN:VTIMEZONE
TZID:Europe/Berlin
BEGIN:DAYLIGHT
TZOFFSETFROM:+0100
TZOFFSETTO:+0200
DTSTART:20220327T010000
TZNAME:CEST
END:DAYLIGHT
END:VTIMEZONE
END:VCALENDAR
