BEGIN:VCALENDAR
VERSION:2.0
PRODID:-//Events | FID-Recht//NONSGML Events//EN
CALSCALE:GREGORIAN
X-ORIGINAL-URL:https://events.intrecht.de/termine/
X-WR-CALDESC:Events | FID-Recht - Events
BEGIN:VEVENT
UID:20200603T1418Z-1591193923.3362-EO-587-1@172.16.200.141
STATUS:CONFIRMED
DTSTAMP:20260422T123605Z
CREATED:20240205T143219Z
LAST-MODIFIED:20240205T143219Z
DTSTART;VALUE=DATE:20240527
DTEND;VALUE=DATE:20240529
SUMMARY: International law-making: Actors in shipping and climate change (H
 ybrid Event)
DESCRIPTION: 27.-28.5.2024 / Online und Kopenhagen (Einreichungsfrist: 15.3
 .2024) https://jura.ku.dk/clima/news/2023/call-for-abstracts–interact-confe
 rence-international-law-making-actors-in-shipping-and-climate-change/
X-ALT-DESC;FMTTYPE=text/html: <p>27.-28.5.2024 / Online und Kopenhagen <str
 ong>(Einreichungsfrist: 15.3.2024)</strong></p><p><a href="https://jura.ku.
 dk/clima/news/2023/call-for-abstracts--interact-conference-international-la
 w-making-actors-in-shipping-and-climate-change/">https://jura.ku.dk/clima/n
 ews/2023/call-for-abstracts--interact-conference-international-law-making-a
 ctors-in-shipping-and-climate-change/</a></p><p>[av_button label='iCal-Expo
 rt' link='./feed/eo-events' link_target='' size='small' position='center' l
 abel_display='' title_attr='' icon_select='yes' icon='ue85b' font='entypo-f
 ontello' color='custom' custom_bg='#b5123e' custom_font='#ffffff' av_uid=''
  id='' custom_class='' admin_preview_bg='']</p>
CATEGORIES:Recht interdisziplinär
LOCATION:Hybrid
GEO:0.000000;0.000000
ORGANIZER;CN="ViFa-Recht":MAILTO:vifa-recht@sbb.spk-berlin.de
URL;VALUE=URI:https://events.intrecht.de/termine/termin/international-law-m
 aking-actors-in-shipping-and-climate-change-hybrid-event/
END:VEVENT
BEGIN:VTIMEZONE
TZID:Europe/Berlin
BEGIN:DAYLIGHT
TZOFFSETFROM:+0100
TZOFFSETTO:+0200
DTSTART:20240331T010000
TZNAME:CEST
END:DAYLIGHT
END:VTIMEZONE
END:VCALENDAR
