BEGIN:VCALENDAR
VERSION:2.0
PRODID:-//Events | FID-Recht//NONSGML Events//EN
CALSCALE:GREGORIAN
X-ORIGINAL-URL:https://events.intrecht.de/termine/
X-WR-CALDESC:Events | FID-Recht - Events
BEGIN:VEVENT
UID:20200603T1418Z-1591193923.3362-EO-587-1@172.16.200.141
STATUS:CONFIRMED
DTSTAMP:20260422T225147Z
CREATED:20250423T124824Z
LAST-MODIFIED:20250423T124824Z
DTSTART;VALUE=DATE:20250704
DTEND;VALUE=DATE:20250705
SUMMARY: International law in the quest for truth on the battlefield (Round
 table / Hybrid Event)
DESCRIPTION: 4.7.2025 / Online und Mailand (Einreichungsfrist: 30.4.2025) h
 ttps://drive.google.com/file/d/1bcGuycRJdn_3Oy9cPVNVeNR45M0T4k9Q/view
X-ALT-DESC;FMTTYPE=text/html: <p>4.7.2025 / Online und Mailand <strong>(Ein
 reichungsfrist: 30.4.2025)</strong></p><p><a href="https://drive.google.com
 /file/d/1bcGuycRJdn_3Oy9cPVNVeNR45M0T4k9Q/view">https://drive.google.com/fi
 le/d/1bcGuycRJdn_3Oy9cPVNVeNR45M0T4k9Q/view</a></p><p>[av_button label='iCa
 l-Export' link='./feed/eo-events' link_target='' size='small' position='cen
 ter' label_display='' title_attr='' icon_select='yes' icon='ue85b' font='en
 typo-fontello' color='custom' custom_bg='#b5123e' custom_font='#ffffff' av_
 uid='' id='' custom_class='' admin_preview_bg='']</p>
CATEGORIES:Europäisches / Internationales Recht
LOCATION:Hybrid
GEO:0.000000;0.000000
ORGANIZER;CN="ViFa-Recht":MAILTO:vifa-recht@sbb.spk-berlin.de
URL;VALUE=URI:https://events.intrecht.de/termine/termin/international-law-i
 n-the-quest-for-truth-on-the-battlefield-roundtable-hybrid-event/
END:VEVENT
BEGIN:VTIMEZONE
TZID:Europe/Berlin
BEGIN:DAYLIGHT
TZOFFSETFROM:+0100
TZOFFSETTO:+0200
DTSTART:20250330T010000
TZNAME:CEST
END:DAYLIGHT
END:VTIMEZONE
END:VCALENDAR
