BEGIN:VCALENDAR
VERSION:2.0
PRODID:-//Events | FID-Recht//NONSGML Events//EN
CALSCALE:GREGORIAN
X-ORIGINAL-URL:https://events.intrecht.de/termine/
X-WR-CALDESC:Events | FID-Recht - Events
BEGIN:VEVENT
UID:20200603T1418Z-1591193923.3362-EO-587-1@172.16.200.141
STATUS:CONFIRMED
DTSTAMP:20260422T193837Z
CREATED:20240726T125053Z
LAST-MODIFIED:20240726T125053Z
DTSTART;VALUE=DATE:20250320
DTEND;VALUE=DATE:20250322
SUMMARY: International Law in the Age of Permacrisis (2025 ESIL Research Fo
 rum)
DESCRIPTION: 20.-21.3.2025 / Catania (Einreichungsfrist: 30.9.2024) https:/
 /esil-sedi.eu/wp-content/uploads/2024/07/Catania-2025-Call-for-Papers.pdf
X-ALT-DESC;FMTTYPE=text/html: <p>20.-21.3.2025 / Catania <strong>(Einreichu
 ngsfrist: 30.9.2024)</strong></p><p><a href="https://esil-sedi.eu/wp-conten
 t/uploads/2024/07/Catania-2025-Call-for-Papers.pdf">https://esil-sedi.eu/wp
 -content/uploads/2024/07/Catania-2025-Call-for-Papers.pdf</a></p><p>[av_but
 ton label='iCal-Export' link='./feed/eo-events' link_target='' size='small'
  position='center' label_display='' title_attr='' icon_select='yes' icon='u
 e85b' font='entypo-fontello' color='custom' custom_bg='#b5123e' custom_font
 ='#ffffff' av_uid='' id='' custom_class='' admin_preview_bg='']</p>
CATEGORIES:Europäisches / Internationales Recht
LOCATION:Ausland
GEO:0.000000;0.000000
ORGANIZER;CN="ViFa-Recht":MAILTO:vifa-recht@sbb.spk-berlin.de
URL;VALUE=URI:https://events.intrecht.de/termine/termin/international-law-i
 n-the-age-of-permacrisis-2025-esil-research-forum/
END:VEVENT
BEGIN:VTIMEZONE
TZID:Europe/Berlin
BEGIN:STANDARD
TZOFFSETFROM:+0200
TZOFFSETTO:+0100
DTSTART:20241027T010000
TZNAME:CET
END:STANDARD
END:VTIMEZONE
END:VCALENDAR
