BEGIN:VCALENDAR
VERSION:2.0
PRODID:-//Events | FID-Recht//NONSGML Events//EN
CALSCALE:GREGORIAN
X-ORIGINAL-URL:https://events.intrecht.de/termine/
X-WR-CALDESC:Events | FID-Recht - Events
BEGIN:VEVENT
UID:20200603T1418Z-1591193923.3362-EO-587-1@172.16.200.141
STATUS:CONFIRMED
DTSTAMP:20260422T141715Z
CREATED:20231219T120711Z
LAST-MODIFIED:20231219T120711Z
DTSTART;VALUE=DATE:20240403
DTEND;VALUE=DATE:20240407
SUMMARY: International Law in an Interdependent World (American Society of 
 International Law 118th Annual Meeting)
DESCRIPTION: 3.-6.4.2024 / Washington\, DC https://www.asil.org/annualmeeti
 ng
X-ALT-DESC;FMTTYPE=text/html: <p>3.-6.4.2024 / Washington\, DC</p><p><a hre
 f="https://www.asil.org/annualmeeting">https://www.asil.org/annualmeeting</
 a></p><p>[av_button label='iCal-Export' link='./feed/eo-events' link_target
 ='' size='small' position='center' label_display='' title_attr='' icon_sele
 ct='yes' icon='ue85b' font='entypo-fontello' color='custom' custom_bg='#b51
 23e' custom_font='#ffffff' av_uid='' id='' custom_class='' admin_preview_bg
 ='']</p>
CATEGORIES:Europäisches / Internationales Recht
LOCATION:Ausland
GEO:0.000000;0.000000
ORGANIZER;CN="ViFa-Recht":MAILTO:vifa-recht@sbb.spk-berlin.de
URL;VALUE=URI:https://events.intrecht.de/termine/termin/international-law-i
 n-an-interdependent-world-american-society-of-international-law-118th-annua
 l-meeting/
END:VEVENT
BEGIN:VTIMEZONE
TZID:Europe/Berlin
BEGIN:DAYLIGHT
TZOFFSETFROM:+0100
TZOFFSETTO:+0200
DTSTART:20240331T010000
TZNAME:CEST
END:DAYLIGHT
END:VTIMEZONE
END:VCALENDAR
