BEGIN:VCALENDAR
VERSION:2.0
PRODID:-//Events | FID-Recht//NONSGML Events//EN
CALSCALE:GREGORIAN
X-ORIGINAL-URL:https://events.intrecht.de/termine/
X-WR-CALDESC:Events | FID-Recht - Events
BEGIN:VEVENT
UID:20200603T1418Z-1591193923.3362-EO-587-1@172.16.200.141
STATUS:CONFIRMED
DTSTAMP:20260422T125214Z
CREATED:20240111T135953Z
LAST-MODIFIED:20240111T135953Z
DTSTART;VALUE=DATE:20240815
DTEND;VALUE=DATE:20240816
SUMMARY: International Law & History (Conference “Dialogues on Internationa
 l Law”)
DESCRIPTION: 15.8.2024 / Buenos Aires (Einreichungsfrist: 14.2.2024) https:
 //www.utdt.edu/ver_novedad.php?id_novedad=5690&id_item_menu=424
X-ALT-DESC;FMTTYPE=text/html: <p>15.8.2024 / Buenos Aires <strong>(Einreich
 ungsfrist: 14.2.2024)</strong></p><p><a href="https://www.utdt.edu/ver_nove
 dad.php?id_novedad=5690&id_item_menu=424">https://www.utdt.edu/ver_novedad.
 php?id_novedad=5690&id_item_menu=424</a></p><p>[av_button label='iCal-Expor
 t' link='./feed/eo-events' link_target='' size='small' position='center' la
 bel_display='' title_attr='' icon_select='yes' icon='ue85b' font='entypo-fo
 ntello' color='custom' custom_bg='#b5123e' custom_font='#ffffff' av_uid='' 
 id='' custom_class='' admin_preview_bg='']</p>
CATEGORIES:Recht interdisziplinär
LOCATION:Ausland
GEO:0.000000;0.000000
ORGANIZER;CN="ViFa-Recht":MAILTO:vifa-recht@sbb.spk-berlin.de
URL;VALUE=URI:https://events.intrecht.de/termine/termin/international-law-h
 istory-conference-dialogues-on-international-law/
END:VEVENT
BEGIN:VTIMEZONE
TZID:Europe/Berlin
BEGIN:DAYLIGHT
TZOFFSETFROM:+0100
TZOFFSETTO:+0200
DTSTART:20240331T010000
TZNAME:CEST
END:DAYLIGHT
END:VTIMEZONE
END:VCALENDAR
