BEGIN:VCALENDAR
VERSION:2.0
PRODID:-//Events | FID-Recht//NONSGML Events//EN
CALSCALE:GREGORIAN
X-ORIGINAL-URL:https://events.intrecht.de/termine/
X-WR-CALDESC:Events | FID-Recht - Events
BEGIN:VEVENT
UID:20200603T1418Z-1591193923.3362-EO-587-1@172.16.200.141
STATUS:CONFIRMED
DTSTAMP:20260422T125231Z
CREATED:20240229T114843Z
LAST-MODIFIED:20240229T114957Z
DTSTART;VALUE=DATE:20241107
DTEND;VALUE=DATE:20241109
SUMMARY: International Law: Enforcement and Entanglements (Conference / Can
 adian Council on International Law)
DESCRIPTION: 7.-8.11.2024 / Ottawa (Einreichungsfrist: 25.3.2024) https://e
 vent.fourwaves.com/ccil-ccdi24/pages
X-ALT-DESC;FMTTYPE=text/html: <p>7.-8.11.2024 / Ottawa <strong>(Einreichung
 sfrist: 25.3.2024)</strong></p><p><a href="https://event.fourwaves.com/ccil
 -ccdi24/pages">https://event.fourwaves.com/ccil-ccdi24/pages</a></p><p>[av_
 button label='iCal-Export' link='./feed/eo-events' link_target='' size='sma
 ll' position='center' label_display='' title_attr='' icon_select='yes' icon
 ='ue85b' font='entypo-fontello' color='custom' custom_bg='#b5123e' custom_f
 ont='#ffffff' av_uid='' id='' custom_class='' admin_preview_bg='']</p>
CATEGORIES:Europäisches / Internationales Recht
LOCATION:Ausland
GEO:0.000000;0.000000
ORGANIZER;CN="ViFa-Recht":MAILTO:vifa-recht@sbb.spk-berlin.de
URL;VALUE=URI:https://events.intrecht.de/termine/termin/international-law-e
 nforcement-and-entanglements-conference-canadian-council-on-international-l
 aw/
END:VEVENT
BEGIN:VTIMEZONE
TZID:Europe/Berlin
BEGIN:STANDARD
TZOFFSETFROM:+0200
TZOFFSETTO:+0100
DTSTART:20241027T010000
TZNAME:CET
END:STANDARD
END:VTIMEZONE
END:VCALENDAR
