BEGIN:VCALENDAR
VERSION:2.0
PRODID:-//Events | FID-Recht//NONSGML Events//EN
CALSCALE:GREGORIAN
X-ORIGINAL-URL:https://events.intrecht.de/termine/
X-WR-CALDESC:Events | FID-Recht - Events
BEGIN:VEVENT
UID:20230207T0525Z-1675747502.2168-EO-8001-1@172.16.200.151
STATUS:CONFIRMED
DTSTAMP:20260421T220342Z
CREATED:20230116T103721Z
LAST-MODIFIED:20230116T103721Z
DTSTART;VALUE=DATE:20230618
DTEND;VALUE=DATE:20230621
SUMMARY: International Law Association 150th Anniversary Celebration (“Buil
 ding Tomorrow”)
DESCRIPTION: 18.-20.6.2023 / Online und Paris https://www.ilaparis2023.org/
 en/  
X-ALT-DESC;FMTTYPE=text/html: <p>18.-20.6.2023 / Online und Paris</p><p><a 
 href="https://www.ilaparis2023.org/en/">https://www.ilaparis2023.org/en/</a
 ></p><p> </p><p>[av_button label='iCal-Export' link='./feed/eo-events' link
 _target='' size='small' position='center' label_display='' title_attr='' ic
 on_select='yes' icon='ue85b' font='entypo-fontello' color='custom' custom_b
 g='#b5123e' custom_font='#ffffff' av_uid='' id='' custom_class='' admin_pre
 view_bg='']</p>
CATEGORIES:Europäisches / Internationales Recht
LOCATION:Ausland
GEO:0.000000;0.000000
ORGANIZER;CN="ViFa-Recht":MAILTO:vifa-recht@sbb.spk-berlin.de
URL;VALUE=URI:https://events.intrecht.de/termine/termin/international-law-a
 ssociation-150th-anniversary-celebration-building-tomorrow/
END:VEVENT
BEGIN:VTIMEZONE
TZID:Europe/Berlin
BEGIN:DAYLIGHT
TZOFFSETFROM:+0100
TZOFFSETTO:+0200
DTSTART:20230326T010000
TZNAME:CEST
END:DAYLIGHT
END:VTIMEZONE
END:VCALENDAR
