BEGIN:VCALENDAR
VERSION:2.0
PRODID:-//Events | FID-Recht//NONSGML Events//EN
CALSCALE:GREGORIAN
X-ORIGINAL-URL:https://events.intrecht.de/termine/
X-WR-CALDESC:Events | FID-Recht - Events
BEGIN:VEVENT
UID:20200603T1418Z-1591193923.3362-EO-587-1@172.16.200.141
STATUS:CONFIRMED
DTSTAMP:20260422T142018Z
CREATED:20240412T091838Z
LAST-MODIFIED:20240412T091838Z
DTSTART;VALUE=DATE:20240927
DTEND;VALUE=DATE:20240929
SUMMARY: International Law and the Social Sciences (Conference)
DESCRIPTION: 27.-28.9.2024 / Chicago (Einreichungsfrist: 15.5.2024) https:/
 /www.law.northwestern.edu/research-faculty/events/conferences/international
 -law-social-sciences/
X-ALT-DESC;FMTTYPE=text/html: <p>27.-28.9.2024 / Chicago <strong>(Einreichu
 ngsfrist: 15.5.2024)</strong></p><p><a href="https://www.law.northwestern.e
 du/research-faculty/events/conferences/international-law-social-sciences/">
 https://www.law.northwestern.edu/research-faculty/events/conferences/intern
 ational-law-social-sciences/</a></p><p>[av_button label='iCal-Export' link=
 './feed/eo-events' link_target='' size='small' position='center' label_disp
 lay='' title_attr='' icon_select='yes' icon='ue85b' font='entypo-fontello' 
 color='custom' custom_bg='#b5123e' custom_font='#ffffff' av_uid='' id='' cu
 stom_class='' admin_preview_bg='']</p>
CATEGORIES:Recht interdisziplinär
LOCATION:Ausland
GEO:0.000000;0.000000
ORGANIZER;CN="ViFa-Recht":MAILTO:vifa-recht@sbb.spk-berlin.de
URL;VALUE=URI:https://events.intrecht.de/termine/termin/international-law-a
 nd-the-social-sciences-conference/
END:VEVENT
BEGIN:VTIMEZONE
TZID:Europe/Berlin
BEGIN:DAYLIGHT
TZOFFSETFROM:+0100
TZOFFSETTO:+0200
DTSTART:20240331T010000
TZNAME:CEST
END:DAYLIGHT
END:VTIMEZONE
END:VCALENDAR
