BEGIN:VCALENDAR
VERSION:2.0
PRODID:-//Events | FID-Recht//NONSGML Events//EN
CALSCALE:GREGORIAN
X-ORIGINAL-URL:https://events.intrecht.de/termine/
X-WR-CALDESC:Events | FID-Recht - Events
BEGIN:VEVENT
UID:20200603T1418Z-1591193923.3362-EO-587-1@172.16.200.141
STATUS:CONFIRMED
DTSTAMP:20260425T164955Z
CREATED:20230320T101803Z
LAST-MODIFIED:20230320T101803Z
DTSTART;VALUE=DATE:20230914
DTEND;VALUE=DATE:20230916
SUMMARY: International Law and the Regulation of Resort to Force: Exhaustio
 n\, Destruction\, Rebirth? (Konferenz)
DESCRIPTION: 14.-15.9.2023 / Olmütz (Frist für Einreichungen: 30.3.2023) ht
 tps://www.force.upol.cz/
X-ALT-DESC;FMTTYPE=text/html: <p>14.-15.9.2023 / Olmütz <strong>(Frist für 
 Einreichungen: 30.3.2023)</strong></p><p><a href="https://www.force.upol.cz
 /">https://www.force.upol.cz/</a></p><p>[av_button label='iCal-Export' link
 ='./feed/eo-events' link_target='' size='small' position='center' label_dis
 play='' title_attr='' icon_select='yes' icon='ue85b' font='entypo-fontello'
  color='custom' custom_bg='#b5123e' custom_font='#ffffff' av_uid='' id='' c
 ustom_class='' admin_preview_bg='']</p>
CATEGORIES:Europäisches / Internationales Recht
LOCATION:Ausland
GEO:0.000000;0.000000
ORGANIZER;CN="ViFa-Recht":MAILTO:vifa-recht@sbb.spk-berlin.de
URL;VALUE=URI:https://events.intrecht.de/termine/termin/international-law-a
 nd-the-regulation-of-resort-to-force-exhaustion-destruction-rebirth-konfere
 nz/
END:VEVENT
BEGIN:VTIMEZONE
TZID:Europe/Berlin
BEGIN:DAYLIGHT
TZOFFSETFROM:+0100
TZOFFSETTO:+0200
DTSTART:20230326T010000
TZNAME:CEST
END:DAYLIGHT
END:VTIMEZONE
END:VCALENDAR
