BEGIN:VCALENDAR
VERSION:2.0
PRODID:-//Events | FID-Recht//NONSGML Events//EN
CALSCALE:GREGORIAN
X-ORIGINAL-URL:https://events.intrecht.de/termine/
X-WR-CALDESC:Events | FID-Recht - Events
BEGIN:VEVENT
UID:20211206T1828Z-1638815316.4493-EO-4468-1@172.16.200.141
STATUS:CONFIRMED
DTSTAMP:20260422T193724Z
CREATED:20211126T230104Z
LAST-MODIFIED:20220223T091540Z
DTSTART;VALUE=DATE:20211220
DTEND;VALUE=DATE:20211221
SUMMARY: International Law and Technological Progress Conference 2022 (CfP)
DESCRIPTION: 23.-24.6.2022\, Aberdeen/Online (Frist für Einreichungen: 20.1
 2.2021 – VERLÄNGERT BIS: 20.1.2022) Abstract Submission | What’s On | The U
 niversity of Aberdeen (abdn.ac.uk)  
X-ALT-DESC;FMTTYPE=text/html: <p>23.-24.6.2022\, Aberdeen/Online (Frist für
  Einreichungen: 20.12.2021 - VERLÄNGERT BIS: 20.1.2022)</p><p><a href="http
 s://www.abdn.ac.uk/events/conferences/abstract-submission-1792.php">Abstrac
 t Submission | What's On | The University of Aberdeen (abdn.ac.uk)</a></p><
 p> </p><p>[av_button label='iCal-Export' link='./feed/eo-events' link_targe
 t='' size='small' position='center' label_display='' title_attr='' icon_sel
 ect='yes' icon='ue85b' font='entypo-fontello' color='custom' custom_bg='#b5
 123e' custom_font='#ffffff' av_uid='' id='' custom_class='' admin_preview_b
 g='']</p>
CATEGORIES:Europäisches / Internationales Recht,Recht interdisziplinär
LOCATION:Online
GEO:0.000000;0.000000
ORGANIZER;CN="ViFa-Recht":MAILTO:vifa-recht@sbb.spk-berlin.de
URL;VALUE=URI:https://events.intrecht.de/termine/termin/international-law-a
 nd-technological-progress-conference-2022-cfp/
END:VEVENT
BEGIN:VTIMEZONE
TZID:Europe/Berlin
BEGIN:STANDARD
TZOFFSETFROM:+0200
TZOFFSETTO:+0100
DTSTART:20211031T010000
TZNAME:CET
END:STANDARD
END:VTIMEZONE
END:VCALENDAR
