BEGIN:VCALENDAR
VERSION:2.0
PRODID:-//Events | FID-Recht//NONSGML Events//EN
CALSCALE:GREGORIAN
X-ORIGINAL-URL:https://events.intrecht.de/termine/
X-WR-CALDESC:Events | FID-Recht - Events
BEGIN:VEVENT
UID:20211207T2316Z-1638919004.6257-EO-5338-1@172.16.200.141
STATUS:CONFIRMED
DTSTAMP:20260422T212923Z
CREATED:20211126T230206Z
LAST-MODIFIED:20220609T164741Z
DTSTART;VALUE=DATE:20220623
DTEND;VALUE=DATE:20220625
SUMMARY: International Law and Technological Progress Conference 2022 (Onli
 ne-Tagung)
DESCRIPTION: 23.-24.6.2022\, Aberdeen/Online (Frist für Einreichungen: 20.1
 2.2021) Abstract Submission | What’s On | The University of Aberdeen (abdn.
 ac.uk) International Law and Technological Progress Conference | Events | S
 chool of Law | The University of Aberdeen (abdn.ac.uk)  
X-ALT-DESC;FMTTYPE=text/html: <p>23.-24.6.2022\, Aberdeen/Online (Frist für
  Einreichungen: 20.12.2021)</p><p><a href="https://www.abdn.ac.uk/events/co
 nferences/abstract-submission-1792.php">Abstract Submission | What's On | T
 he University of Aberdeen (abdn.ac.uk)</a></p><p><a href="https://www.abdn.
 ac.uk/law/research/centre-for-commercial-law/events/16865/">International L
 aw and Technological Progress Conference | Events | School of Law | The Uni
 versity of Aberdeen (abdn.ac.uk)</a></p><p> </p><p>[av_button label='iCal-E
 xport' link='./feed/eo-events' link_target='' size='small' position='center
 ' label_display='' title_attr='' icon_select='yes' icon='ue85b' font='entyp
 o-fontello' color='custom' custom_bg='#b5123e' custom_font='#ffffff' av_uid
 ='' id='' custom_class='' admin_preview_bg='']</p>
CATEGORIES:Europäisches / Internationales Recht,Recht interdisziplinär
LOCATION:Online
GEO:0.000000;0.000000
ORGANIZER;CN="ViFa-Recht":MAILTO:vifa-recht@sbb.spk-berlin.de
URL;VALUE=URI:https://events.intrecht.de/termine/termin/international-law-a
 nd-technological-progress-conference-2022-cfp-2/
END:VEVENT
BEGIN:VTIMEZONE
TZID:Europe/Berlin
BEGIN:DAYLIGHT
TZOFFSETFROM:+0100
TZOFFSETTO:+0200
DTSTART:20220327T010000
TZNAME:CEST
END:DAYLIGHT
END:VTIMEZONE
END:VCALENDAR
