BEGIN:VCALENDAR
VERSION:2.0
PRODID:-//Events | FID-Recht//NONSGML Events//EN
CALSCALE:GREGORIAN
X-ORIGINAL-URL:https://events.intrecht.de/termine/
X-WR-CALDESC:Events | FID-Recht - Events
BEGIN:VEVENT
UID:20200603T1418Z-1591193923.3362-EO-587-1@172.16.200.141
STATUS:CONFIRMED
DTSTAMP:20260422T110719Z
CREATED:20240124T102945Z
LAST-MODIFIED:20240124T102945Z
DTSTART;VALUE=DATE:20240201
DTEND;VALUE=DATE:20240202
SUMMARY: International Law and Human Rights Activism – The Case of Amnesty 
 International (Thomas Franck Lecture)
DESCRIPTION: 1.2.2024 / Berlin https://kfg-intlaw.de/News%20and%20Events/ne
 ws_einzel.php?ID=269
X-ALT-DESC;FMTTYPE=text/html: <p>1.2.2024 / Berlin</p><p><a href="https://k
 fg-intlaw.de/News%20and%20Events/news_einzel.php?ID=269">https://kfg-intlaw
 .de/News%20and%20Events/news_einzel.php?ID=269</a></p><p>[av_button label='
 iCal-Export' link='./feed/eo-events' link_target='' size='small' position='
 center' label_display='' title_attr='' icon_select='yes' icon='ue85b' font=
 'entypo-fontello' color='custom' custom_bg='#b5123e' custom_font='#ffffff' 
 av_uid='' id='' custom_class='' admin_preview_bg='']</p>
CATEGORIES:Europäisches / Internationales Recht
LOCATION:Inland
GEO:0.000000;0.000000
ORGANIZER;CN="ViFa-Recht":MAILTO:vifa-recht@sbb.spk-berlin.de
URL;VALUE=URI:https://events.intrecht.de/termine/termin/international-law-a
 nd-human-rights-activism-the-case-of-amnesty-international-thomas-franck-le
 cture/
END:VEVENT
BEGIN:VTIMEZONE
TZID:Europe/Berlin
BEGIN:STANDARD
TZOFFSETFROM:+0200
TZOFFSETTO:+0100
DTSTART:20231029T010000
TZNAME:CET
END:STANDARD
END:VTIMEZONE
END:VCALENDAR
